BEGIN:VCALENDAR
VERSION:2.0
PRODID:-//ChamberMaster//Event Calendar 2.0//EN
METHOD:PUBLISH
X-PUBLISHED-TTL:P3D
REFRESH-INTERVAL:P3D
CALSCALE:GREGORIAN
BEGIN:VEVENT
DTSTART:20130127T190000Z
DTEND:20130127T200000Z
X-MICROSOFT-CDO-ALLDAYEVENT:FALSE
SUMMARY:Rev. Rich Rubietta Concert
DESCRIPTION:Immanuel Lutheran Church and School welcomes Rev. Rich Rubietta for a praise concert as Immanuel kicks off National Lutheran School's Week 2013.  All friends and community members from Elmhurst and the surrounding communities are invited for this uplifting concert.  The concert begins at 1 p.m. in the school gym.  Tours of the school will be available to anyone interested at the end of the concert.
X-ALT-DESC;FMTTYPE=text/html:Immanuel Lutheran Church and School welcomes Rev. Rich Rubietta for a praise concert as Immanuel kicks off National Lutheran School&#39\;s Week 2013.&nbsp\; All friends and community members from Elmhurst and the surrounding communities are invited for this uplifting concert.&nbsp\; The concert begins at 1&nbsp\;p.m. in the school gym.&nbsp\; Tours of the school will be available to anyone interested at the end of the concert.
LOCATION:148 E. Third Street\, Elmhurst
UID:e.333.5167
SEQUENCE:3
DTSTAMP:20260424T114357Z
URL:https://chambermaster.elmhurstchamber.org/events/details/rev-rich-rubietta-concert-01-27-2013-5167
END:VEVENT

END:VCALENDAR
