BEGIN:VCALENDAR
VERSION:2.0
PRODID:-//ChamberMaster//Event Calendar 2.0//EN
METHOD:PUBLISH
X-PUBLISHED-TTL:P3D
REFRESH-INTERVAL:P3D
CALSCALE:GREGORIAN
BEGIN:VEVENT
DTSTART:20110208T180000Z
DTEND:20110208T190000Z
X-MICROSOFT-CDO-ALLDAYEVENT:FALSE
SUMMARY:Road Map to Success!
DESCRIPTION:Create the Business You Want!\n\n\n\nDo you?\n\n  Know you need to do something differently to get different results?\n\n  Need the structure\, process and time to work on your business?\n\n  Enjoy the scheduling convenience of a lunch time meeting by phone or webinar?\n\n  Get inspired & energized through working with a great group of intelligent people?\n\n  Know you need the support\, but are unsure about making an\n\ninvestment in private coaching?\n\n\n\nWant to?\n\n  Learn how to answer the question "Why should I work with YOU??"\n\n  Figure out who are your ideal clients and where to find them?\n\n  Add more focus & get better results from your networking\, sales and marketing efforts?\n\n  Have the best of both worlds: The best practices & key learnings from a small group AND the individual focus of a 1X1 coaching relationship?\n\n  Be empowered to create the business you REALLY want the way you REALLY want it?!?\n\n\n\nThen This Program Is for YOU!\n\n\n\nElene Cafasso\, an Executive Coach & MBA with 24 years of marketing & sales experience will walk you step-by-step through our unique process which has a proven record of success with our individual coaching clients!\n\n\n\nWe'll cover:\n\n  Creating a fulfilling business vision\n\n  Professional branding to communicate your unique value to your ideal clients\n\n  Developing a tactical marketing plan for 2011\n\n  Identifying & communicating with your target market/ideal clients\n\n  Utilizing social media and strategic referral sources to drive leads
X-ALT-DESC;FMTTYPE=text/html:Create the Business You Want!<br />\n<br />\nDo you?<br />\n&middot\; Know you need to do something differently to get different results?<br />\n&middot\; Need the structure\, process and time to work on your business?<br />\n&middot\; Enjoy the scheduling convenience of a lunch time meeting by phone or webinar?<br />\n&middot\; Get inspired &amp\; energized through working with a great group of intelligent people?<br />\n&middot\; Know you need the support\, but are unsure about making an<br />\ninvestment in private coaching?<br />\n<br />\nWant to?<br />\n&middot\; Learn how to answer the question &quot\;Why should I work with YOU??&quot\;<br />\n&middot\; Figure out who are your ideal clients and where to find them?<br />\n&middot\; Add more focus &amp\; get better results from your networking\, sales and marketing efforts?<br />\n&middot\; Have the best of both worlds: The best practices &amp\; key learnings from a small group AND the individual focus of a 1X1 coaching relationship?<br />\n&middot\; Be empowered to create the business you REALLY want the way you REALLY want it?!?<br />\n<br />\nThen This Program Is for YOU!<br />\n<br />\nElene Cafasso\, an Executive Coach &amp\; MBA with 24 years of marketing &amp\; sales experience will walk you step-by-step through our unique process which has a proven record of success with our individual coaching clients!<br />\n<br />\nWe&#39\;ll cover:<br />\n&middot\; Creating a fulfilling business vision<br />\n&middot\; Professional branding to communicate your unique value to your ideal clients<br />\n&middot\; Developing a tactical marketing plan for 2011<br />\n&middot\; Identifying &amp\; communicating with your target market/ideal clients<br />\n&middot\; Utilizing social media and strategic referral sources to drive leads
LOCATION:Group Teleclass/Webinar and Individual Phone Coaching
UID:e.333.3718
SEQUENCE:3
DTSTAMP:20260425T233823Z
URL:https://chambermaster.elmhurstchamber.org/events/details/road-map-to-success-02-08-2011-3718
END:VEVENT

END:VCALENDAR
