BEGIN:VCALENDAR
VERSION:2.0
PRODID:-//ChamberMaster//Event Calendar 2.0//EN
METHOD:PUBLISH
X-PUBLISHED-TTL:P3D
REFRESH-INTERVAL:P3D
CALSCALE:GREGORIAN
BEGIN:VEVENT
DTSTART;VALUE=DATE:20101010
DTEND;VALUE=DATE:20101120
TRANSP:TRANSPARENT
X-MICROSOFT-CDO-ALLDAYEVENT:TRUE
SUMMARY:''Robert Kameczura: Contemporary Old Master'' at EAG Gallery
DESCRIPTION:"Robert Kameczura: Contemporary Old Master\," an exhibition featuring the epic-scaled paintings and prints of Robert Kameczura to be held in the Elmhurst Artists' Guild Gallery The exhibition runs from October 10 to November 19\, 2010. A reception\, open to the public\, will be held on Friday\, October 15\, 2010 from 7 to 9pm\, affording an opportunity to meet the artist.\n\n\n\nRobert Kameczura is an artist and a scholar whose prolific and diverse efforts have had a significant impact on every corner of the Chicago arts scene. Called "one of Chicago's Renaissance men" for his numerous activities in so many fields\, Kameczura has mastered the arts of painting in acrylics and watercolor\, drawing\, silkscreen\, black and white photography\, gicle  work and calligraphy. Regardless of the media\, his art possesses a Chicago flavor\; a strong narrative and symbolist bent which conjures up the illusion of other worlds reaching far beyond what is visible on the canvas.
X-ALT-DESC;FMTTYPE=text/html:&quot\;Robert Kameczura: Contemporary Old Master\,&quot\; an exhibition featuring the epic-scaled paintings and prints of Robert Kameczura to be held in the Elmhurst Artists&#39\; Guild Gallery The exhibition runs from October 10 to November 19\, 2010. A reception\, open to the public\, will be held on Friday\, October 15\, 2010 from 7 to 9pm\, affording an opportunity to meet the artist.<br />\n<br />\nRobert Kameczura is an artist and a scholar whose prolific and diverse efforts have had a significant impact on every corner of the Chicago arts scene. Called &quot\;one of Chicago&#39\;s Renaissance men&quot\; for his numerous activities in so many fields\, Kameczura has mastered the arts of painting in acrylics and watercolor\, drawing\, silkscreen\, black and white photography\, gicle&eacute\; work and calligraphy. Regardless of the media\, his art possesses a Chicago flavor\; a strong narrative and symbolist bent which conjures up the illusion of other worlds reaching far beyond what is visible on the canvas.
LOCATION:Elmhurst Artists' Guild Gallery\, Elmhurst Art Museum Building\, 150 Cottage Hill Ave.\, Elmhurst\, IL 60126.
UID:e.333.3466
SEQUENCE:3
DTSTAMP:20260426T042954Z
URL:https://chambermaster.elmhurstchamber.org/events/details/robert-kameczura-contemporary-old-master-at-eag-gallery-10-10-2010-3466
END:VEVENT

END:VCALENDAR
