BEGIN:VCALENDAR
VERSION:2.0
PRODID:-//ChamberMaster//Event Calendar 2.0//EN
METHOD:PUBLISH
X-PUBLISHED-TTL:P3D
REFRESH-INTERVAL:P3D
CALSCALE:GREGORIAN
BEGIN:VEVENT
DTSTART:20130713T153000Z
DTEND:20130713T170000Z
X-MICROSOFT-CDO-ALLDAYEVENT:FALSE
SUMMARY:Rock and Mineral Identification
DESCRIPTION:Geologist Sara Johnson presents an introduction to rocks and minerals. Learn how to make a basic mineral test kit. Hands on identification procedures include observations skills and hardness tests. Great for teachers and "rockhounds\," this program qualifies for Boy & Girl Scout merit badges. All materials provided. Ages 8-Adult.\n\nAdmission is $5.00 per person
X-ALT-DESC;FMTTYPE=text/html:Geologist Sara Johnson presents an introduction to rocks and minerals. Learn how to make a basic mineral test kit. Hands on identification procedures include observations skills and hardness tests. Great for teachers and &quot\;rockhounds\,&quot\; this program qualifies for Boy &amp\; Girl Scout merit badges. All materials provided. Ages 8-Adult.<br />\nAdmission is $5.00 per person
LOCATION:Lizzadro Museum of Lapidary Art 220 Cottage Hill Elmhurst\, IL 60126
UID:e.333.5317
SEQUENCE:3
DTSTAMP:20260422T163156Z
URL:https://chambermaster.elmhurstchamber.org/events/details/rock-and-mineral-identification-07-13-2013-5317
END:VEVENT

END:VCALENDAR
