BEGIN:VCALENDAR
VERSION:2.0
PRODID:-//ChamberMaster//Event Calendar 2.0//EN
METHOD:PUBLISH
X-PUBLISHED-TTL:P3D
REFRESH-INTERVAL:P3D
CALSCALE:GREGORIAN
BEGIN:VEVENT
DTSTART:20131012T153000Z
DTEND:20131012T170000Z
X-MICROSOFT-CDO-ALLDAYEVENT:FALSE
SUMMARY:Rock and Mineral Identification
DESCRIPTION:"Rock & Mineral Identification" Geologist Sara Johnson presents an introduction to rocks and minerals. Learn how to make a basic mineral test kit. Hands on identification procedures include observation skills and hardness tests. Great for teachers and rockhounds\, this program qualifies for Boy & Girl Scout merit badges. All materials are provided. Activity is for ages 8 years to adult and starts at 10:30 a.m.  The presentation is 75 minutes.  Saturday\, October 12 Admission: $5.00 per person\, Reservations Required: (630)833-1616
X-ALT-DESC;FMTTYPE=text/html:&quot\;Rock &amp\; Mineral Identification&quot\; Geologist Sara Johnson presents an introduction to rocks and minerals. Learn how to make a basic mineral test kit. Hands on identification procedures include observation skills and hardness tests. Great for teachers and rockhounds\, this program qualifies for Boy &amp\; Girl Scout merit badges. All materials are provided. Activity&nbsp\;is for&nbsp\;ages 8&nbsp\;years to adult and starts at&nbsp\;10:30 a.m.&nbsp\; The presentation is 75 minutes.&nbsp\; Saturday\, October 12 Admission: $5.00 per person\, Reservations Required: (630)833-1616 
LOCATION:Lizzadro Museum of Lapidary Art 220 Cottage Hill Elmhurst\, IL 60126
UID:e.333.5858
SEQUENCE:3
DTSTAMP:20260422T112434Z
URL:https://chambermaster.elmhurstchamber.org/events/details/rock-and-mineral-identification-10-12-2013-5858
END:VEVENT

END:VCALENDAR
