BEGIN:VCALENDAR
VERSION:2.0
PRODID:-//ChamberMaster//Event Calendar 2.0//EN
METHOD:PUBLISH
X-PUBLISHED-TTL:P3D
REFRESH-INTERVAL:P3D
CALSCALE:GREGORIAN
BEGIN:VEVENT
DTSTART:20131102T190000Z
DTEND:20131102T203000Z
X-MICROSOFT-CDO-ALLDAYEVENT:FALSE
SUMMARY:Rock to Gem- A fascinating Journey
DESCRIPTION:What makes a gemstone unique among rocks? This presentation includes the geology of a gems formation and the gemology of how a gem is identified.  Hands-on activity stations at the end of the lecture teach the basics of gemstone identification. Presented by geologist\, Sara Johnson\, M.S. and gemologist\, Sakina Bharani\, G.G. Lecture/Activity for age 16 and up. Regular Museum Admission\, Reservations Recommended.
X-ALT-DESC;FMTTYPE=text/html:What makes a gemstone unique among rocks? This presentation includes the geology of a gems formation and the gemology of how a gem is identified.&nbsp\; Hands-on activity stations at the end of the lecture teach the basics of gemstone identification. Presented by geologist\, Sara Johnson\, M.S. and gemologist\, Sakina Bharani\, G.G. Lecture/Activity for age 16&nbsp\;and up.&nbsp\;Regular Museum Admission\, Reservations Recommended.
LOCATION:Lizzadro Museum of Lapidary Art 220 Cottage Hill Ave.\, Elmhurst\,
UID:e.333.5862
SEQUENCE:3
DTSTAMP:20260424T085213Z
URL:https://chambermaster.elmhurstchamber.org/events/details/rock-to-gem-a-fascinating-journey-11-02-2013-5862
END:VEVENT

END:VCALENDAR
