BEGIN:VCALENDAR
VERSION:2.0
PRODID:-//ChamberMaster//Event Calendar 2.0//EN
METHOD:PUBLISH
X-PUBLISHED-TTL:P3D
REFRESH-INTERVAL:P3D
CALSCALE:GREGORIAN
BEGIN:VEVENT
DTSTART:20130113T010000Z
DTEND:20130113T040000Z
X-MICROSOFT-CDO-ALLDAYEVENT:FALSE
SUMMARY:Rockin' Lock-In
DESCRIPTION:Jan. 12\, Feb. 9\, Mar. 9  Grades 4-6\n\nGrab your friends and join us for a fun night at Wagner Community Center.  Fee includes open gymnastics\, slice of pizza\, one can of pop\, DJ\, dodge ball and more.   Waiver must be signed by parent for each participant.  Parents will need to come in at the end of the night to sign out the child (children) they are picking up.
X-ALT-DESC;FMTTYPE=text/html:<br />\nJan. 12\, Feb. 9\, Mar. 9&nbsp\; Grades 4-6<br />\nGrab your friends and join us for a fun night at Wagner Community Center.&nbsp\; Fee includes open gymnastics\, slice of pizza\, one can of pop\, DJ\, dodge ball and more. &nbsp\; Waiver must be signed by parent for each participant.&nbsp\; Parents will need to come in at the end of the night to sign out the child (children) they are picking up.<br />\n
LOCATION:Wagner Community Center Gymnastics Center
UID:e.333.5107
SEQUENCE:3
DTSTAMP:20260424T114137Z
URL:https://chambermaster.elmhurstchamber.org/events/details/rockin-lock-in-01-12-2013-5107
END:VEVENT

END:VCALENDAR
