BEGIN:VCALENDAR
VERSION:2.0
PRODID:-//ChamberMaster//Event Calendar 2.0//EN
METHOD:PUBLISH
X-PUBLISHED-TTL:P3D
REFRESH-INTERVAL:P3D
CALSCALE:GREGORIAN
BEGIN:VEVENT
DTSTART:20130310T010000Z
DTEND:20130310T040000Z
X-MICROSOFT-CDO-ALLDAYEVENT:FALSE
SUMMARY:Rockin' Lock-In
DESCRIPTION:Grab your friends and join us for a fun night at the Wagner Community Center.  Fee includes open gymnastics\, slice of pizza\, one can of pop\, DJ\, dodgeball and more.  Waiver must be signed by parent for each participant.  Parents will need to come in at the end of the night to sign out the child (children) they are picking up.  Preregistration is required.  To register online with code number\, visit www.epd.org
X-ALT-DESC;FMTTYPE=text/html:Grab your friends and join us for a fun night at the Wagner Community Center.&nbsp\; Fee includes open gymnastics\, slice of pizza\, one can of pop\, DJ\, dodgeball and more.&nbsp\; Waiver must be signed by parent for each participant.&nbsp\; Parents will need to come in at the end of the night to sign out the child (children) they are picking up.&nbsp\; Preregistration is required.&nbsp\; To register online with code number\,&nbsp\;visit <a href="http://www.epd.org">www.epd.org</a>
LOCATION:Wagner Community Center
UID:e.333.5196
SEQUENCE:3
DTSTAMP:20260424T084709Z
URL:https://chambermaster.elmhurstchamber.org/events/details/rockin-lock-in-03-09-2013-5196
END:VEVENT

END:VCALENDAR
