BEGIN:VCALENDAR
VERSION:2.0
PRODID:-//ChamberMaster//Event Calendar 2.0//EN
METHOD:PUBLISH
X-PUBLISHED-TTL:P3D
REFRESH-INTERVAL:P3D
CALSCALE:GREGORIAN
BEGIN:VEVENT
DTSTART:20130915T000000Z
DTEND:20130915T030000Z
X-MICROSOFT-CDO-ALLDAYEVENT:FALSE
SUMMARY:Rockin' Lock-In - 4th-6th Grade
DESCRIPTION:Ages 9-11\n\n	Grab your friends and join us for a fun night at the Wagner Community Center.  Fee includes open gymnastics\, slice of pizza\, one can of pop\, DJ\, dodgeball and more.  Waiver must be signed by parent for each participant.  Parents will need to come in at the end of the night to sign out the child (children) they are picking up.  The event is for 4th-6th graders.  PRE-REGISTRATION IS REQUIRED.\n\n	 \n\n	Saturday\, September 14  7-10 p.m.\n\n	Saturday\, October 19  7-10 p.m.
X-ALT-DESC;FMTTYPE=text/html:<p class="MsoNormal" style="margin: 0in 0in 0pt 0.1in\;">\n	<font color="#000000" face="Calibri" size="3">Ages 9-11</font></p>\n<p class="MsoNormal" style="margin: 0in 0in 0pt 0.1in\;">\n	<font face="Calibri"><font color="#000000"><font size="3">Grab your friends and join us for a fun night at the Wagner Community Center.<span style="mso-spacerun: yes\;">&nbsp\; </span>Fee includes open gymnastics\, slice of pizza\, one can of pop\, DJ\, dodgeball and more.<span style="mso-spacerun: yes\;">&nbsp\; </span>Waiver must be signed by parent for each participant.<span style="mso-spacerun: yes\;">&nbsp\; </span>Parents will need to come in at the end of the night to sign out the child (children) they are picking up.<span style="mso-spacerun: yes\;">&nbsp\; </span>The event is for </font><font size="3">4</font><sup><font size="2">th</font></sup><font size="3">-6</font><sup><font size="2">th</font></sup><font size="3"> graders.<span style="mso-spacerun: yes\;">&nbsp\; </span></font><font size="3">PRE-REGISTRATION IS REQUIRED.</font></font></font><br />\n	&nbsp\;</p>\n<p class="MsoNormal" style="margin: 0in 0in 0pt 0.1in\;">\n	<font face="Calibri"><font color="#000000" size="3">Saturday\, September 14<span style="mso-spacerun: yes\;">&nbsp\; </span>7-10 p.m.</font></font></p>\n<p class="MsoNormal" style="margin: 0in 0in 0pt 0.1in\;">\n	<font color="#000000" face="Calibri" size="3">Saturday\, October 19<span style="mso-spacerun: yes\;">&nbsp\; </span>7-10 p.m.</font></p>\n
LOCATION:Wagner Community Gymnastics Center 615 N. West Ave\, Elmhurst\, IL 60126
UID:e.333.5572
SEQUENCE:3
DTSTAMP:20260422T112252Z
URL:https://chambermaster.elmhurstchamber.org/events/details/rockin-lock-in-4th-6th-grade-09-14-2013-5572
END:VEVENT

END:VCALENDAR
