BEGIN:VCALENDAR
VERSION:2.0
PRODID:-//ChamberMaster//Event Calendar 2.0//EN
METHOD:PUBLISH
X-PUBLISHED-TTL:P3D
REFRESH-INTERVAL:P3D
CALSCALE:GREGORIAN
BEGIN:VEVENT
DTSTART:20121023T143000Z
DTEND:20121023T163000Z
X-MICROSOFT-CDO-ALLDAYEVENT:FALSE
SUMMARY:Rules of The Road
DESCRIPTION:If you are over 75 years of age\, then you must take an exam and road test when renewing your license.\n\n	\n\n	Our safe driving class teaches you how to take the written and road driving test. We review the actual test administered at driving facilities\, and we study answers so you are better prepared to pass when you renew your license.\n\n	\n\n	RSVP for you and a friend today.
X-ALT-DESC;FMTTYPE=text/html:<p style="text-align: justify">\n	If you are over 75 years of age\, then you must take an exam and road test when renewing your license.<br />\n	<br />\n	Our safe driving class teaches you how to take the written and road driving test. We review the actual test administered at driving facilities\, and we study answers so you are better prepared to pass when you renew your license.<br />\n	<br />\n	RSVP for you and a friend today.</p>\n
LOCATION:Lexington Square of Elmhurst
UID:e.333.4949
SEQUENCE:3
DTSTAMP:20260424T162434Z
URL:https://chambermaster.elmhurstchamber.org/events/details/rules-of-the-road-10-23-2012-4949
END:VEVENT

END:VCALENDAR
