BEGIN:VCALENDAR
VERSION:2.0
PRODID:-//ChamberMaster//Event Calendar 2.0//EN
METHOD:PUBLISH
X-PUBLISHED-TTL:P3D
REFRESH-INTERVAL:P3D
CALSCALE:GREGORIAN
BEGIN:VEVENT
DTSTART:20110924T150000Z
DTEND:20110924T190000Z
X-MICROSOFT-CDO-ALLDAYEVENT:FALSE
SUMMARY:Rummage Sale
DESCRIPTION:Huge Rummage and Bake Sale!  104 households!\n\nKitchen and household\, electronics\, furniture\, artwork\,\n\nBooks and music...too much to list!
X-ALT-DESC;FMTTYPE=text/html:Huge Rummage and Bake Sale!&nbsp\; 104 households!<br />\nKitchen and household\, electronics\, furniture\, artwork\,<br />\nBooks and music...too much to list!
LOCATION:Liberty Village\, 415 N. York
UID:e.333.4496
SEQUENCE:3
DTSTAMP:20260425T132138Z
URL:https://chambermaster.elmhurstchamber.org/events/details/rummage-sale-09-24-2011-4496
END:VEVENT

END:VCALENDAR
