BEGIN:VCALENDAR
VERSION:2.0
PRODID:-//ChamberMaster//Event Calendar 2.0//EN
METHOD:PUBLISH
X-PUBLISHED-TTL:P3D
REFRESH-INTERVAL:P3D
CALSCALE:GREGORIAN
BEGIN:VEVENT
DTSTART:20110724T130000Z
DTEND:20110725T010000Z
X-MICROSOFT-CDO-ALLDAYEVENT:FALSE
SUMMARY:Run for Hunger
DESCRIPTION:The Run for Hunger 5K and 1/2 mile Kids Fun Run is back for its fifth consecutive year. The Run benefits local food pantries\, with all runners fees going directly to feed the hungry. The course is USATF certified and winds through the tree-lined streets of south Elmhurst.  All participants receive a custom-designed T-shirt\, a "goody bag"\, post-race refreshments and a chance to win great raffle prizes.  Unique awards for both men and women will be given out in 8 age categories.  Following the 5K at 8:45am there will be a "Kid's   mile Fun Run" with each participant receiving a T-shirt and Ribbon.  Participation averages 350 runners and walkers.
X-ALT-DESC;FMTTYPE=text/html:The Run for Hunger 5K and 1/2 mile Kids Fun Run is back for its fifth consecutive year. The Run benefits local food pantries\, with all runners fees going directly to feed the hungry. The course is USATF certified and winds through the tree-lined streets of south Elmhurst.&nbsp\; All participants receive a custom-designed T-shirt\, a &quot\;goody bag&quot\;\, post-race refreshments and a chance to win great raffle prizes.&nbsp\; Unique awards for both men and women will be given out in 8 age categories.&nbsp\; Following the 5K at 8:45am there will be a &quot\;Kid&#39\;s &frac12\; mile Fun Run&quot\; with each participant receiving a T-shirt and Ribbon.&nbsp\; Participation averages 350 runners and walkers.<br />\n
LOCATION:Race starts near the corner of York & Lexington in South Elmhurst.
UID:e.333.4090
SEQUENCE:3
DTSTAMP:20260425T161303Z
URL:https://chambermaster.elmhurstchamber.org/events/details/run-for-hunger-07-24-2011-4090
END:VEVENT

END:VCALENDAR
