BEGIN:VCALENDAR
VERSION:2.0
PRODID:-//ChamberMaster//Event Calendar 2.0//EN
METHOD:PUBLISH
X-PUBLISHED-TTL:P3D
REFRESH-INTERVAL:P3D
CALSCALE:GREGORIAN
BEGIN:VEVENT
DTSTART:20121006T150000Z
DTEND:20121006T180000Z
X-MICROSOFT-CDO-ALLDAYEVENT:FALSE
SUMMARY:Safe Trick-or-Treating at Fall Fest
DESCRIPTION:Come dressed in your Halloween costumes and bring a goody bag! There will also be face painting for part of the morning. Safety Town is a little village that will help teach the young ones how to safely Trick or Treat. Other amusements near The Depot may include pony rides\, petting farm\, moon jump\, carving or painting pumpkins\, food and more!
X-ALT-DESC;FMTTYPE=text/html:<p class="MsoNormal" style="margin: 0in 0in 0pt">\n	<span style="line-height: 115%\; font-family: 'cambria'\, 'serif'\; font-size: 12pt\; mso-ascii-theme-font: major-latin\; mso-hansi-theme-font: major-latin"><font color="#000000">Come dressed in your Halloween costumes and bring a goody bag! There will also be face painting for part of the morning. Safety Town is a little village that will help teach the young ones how to safely Trick or Treat. Other amusements near The Depot may include pony rides\, petting farm\, moon jump\, carving or painting pumpkins\, food and more! <o:p></o:p></font></span></p>\n
LOCATION:The Depot/Safety Town
UID:e.333.4903
SEQUENCE:3
DTSTAMP:20260424T162347Z
URL:https://chambermaster.elmhurstchamber.org/events/details/safe-trick-or-treating-at-fall-fest-10-06-2012-4903
END:VEVENT

END:VCALENDAR
