BEGIN:VCALENDAR
VERSION:2.0
PRODID:-//ChamberMaster//Event Calendar 2.0//EN
METHOD:PUBLISH
X-PUBLISHED-TTL:P3D
REFRESH-INTERVAL:P3D
CALSCALE:GREGORIAN
BEGIN:VEVENT
DTSTART:20130613T233000Z
DTEND:20130809T010000Z
X-MICROSOFT-CDO-ALLDAYEVENT:FALSE
SUMMARY:Safety Town Open Road
DESCRIPTION:Ages 4-7\n\n	Ride through the Safety Town village free of charge (weather permitting).  Walk\, ride\, practice crossing the street and the roads as you learn to be "Safety Smart!"\n\n	Location: Depot/Safety Town\n\n	Fee: $5 to rent our bikes and/or helmets.  No fee to bring your own.
X-ALT-DESC;FMTTYPE=text/html:<p class="MsoNormal" style="margin: 0in 0in 0pt 0.1in\;">\n	<font color="#000000" face="Calibri" size="3">Ages 4-7</font></p>\n<p class="MsoNormal" style="margin: 0in 0in 0pt 0.1in\;">\n	<font face="Calibri"><font color="#000000" size="3">Ride through the Safety Town village free of charge (weather permitting).<span style="mso-spacerun: yes\;">&nbsp\; </span>Walk\, ride\, practice crossing the street and the roads as you learn to be &ldquo\;Safety Smart!&rdquo\;</font></font></p>\n<p class="MsoNormal" style="margin: 0in 0in 0pt 0.1in\;">\n	<font color="#000000" face="Calibri" size="3">Location: Depot/Safety Town</font></p>\n<p class="MsoNormal" style="margin: 0in 0in 0pt 0.1in\;">\n	<font color="#000000" face="Calibri" size="3">Fee: $5 to rent our bikes and/or helmets.<span style="mso-spacerun: yes\;">&nbsp\; </span>No fee to bring your own.</font></p>\n
LOCATION:Safety Town
UID:e.333.5306
SEQUENCE:3
DTSTAMP:20260422T133421Z
URL:https://chambermaster.elmhurstchamber.org/events/details/safety-town-open-road-06-13-2013-5306
END:VEVENT

END:VCALENDAR
