BEGIN:VCALENDAR
VERSION:2.0
PRODID:-//ChamberMaster//Event Calendar 2.0//EN
METHOD:PUBLISH
X-PUBLISHED-TTL:P3D
REFRESH-INTERVAL:P3D
CALSCALE:GREGORIAN
BEGIN:VEVENT
DTSTART:20110427T160000Z
DTEND:20110427T183000Z
X-MICROSOFT-CDO-ALLDAYEVENT:FALSE
SUMMARY:"Salute to Elmhurst's Future and New Beginnings" Spring Luncheon
DESCRIPTION:In honor of the City of Elmhurst's 175th Anniversary\, the Elmhurst Chamber's Spring Luncheon will feature a "Salute to Elmhurst's Future and New Beginnings" at the Diplomat West Banquet Halls on Wednesday\, April 27\, from 11 a.m. to 1:30 p.m.  Harris Bank is an event sponsor.
X-ALT-DESC;FMTTYPE=text/html:<br />\nIn honor of the City of Elmhurst&#39\;s 175th Anniversary\, the Elmhurst Chamber&#39\;s Spring Luncheon will feature a&nbsp\;<a href="http://cloud.chambermaster.com/userfiles/UserFiles/chambers/333/File/Elmhurst.flyer.rev.pdf">&quot\;Salute to Elmhurst&#39\;s Future and New Beginnings&quot\;</a> at the Diplomat West Banquet Halls on Wednesday\, April 27\, from 11 a.m. to 1:30 p.m.&nbsp\; <a href="http://chambermaster.elmhurstchamber.org/list/Member/harris-elmhurst-elmhurst.htm">Harris Bank </a>is an event sponsor.<br />\n
LOCATION:Diplomat West Banquet Halls 681 W. North Ave\, Elmhurst\, IL 60126
UID:e.333.4092
SEQUENCE:3
DTSTAMP:20260425T205013Z
URL:https://chambermaster.elmhurstchamber.org/events/details/salute-to-elmhurst-s-future-and-new-beginnings-spring-luncheon-04-27-2011-4092
END:VEVENT

END:VCALENDAR
