BEGIN:VCALENDAR
VERSION:2.0
PRODID:-//ChamberMaster//Event Calendar 2.0//EN
METHOD:PUBLISH
X-PUBLISHED-TTL:P3D
REFRESH-INTERVAL:P3D
CALSCALE:GREGORIAN
BEGIN:VEVENT
DTSTART:20120425T163000Z
DTEND:20120425T183000Z
X-MICROSOFT-CDO-ALLDAYEVENT:FALSE
SUMMARY:''Salute to the Arts & Culture'' Spring Luncheon
DESCRIPTION:Spring Luncheon 2012\n\n	"Salute to the Arts & Culture"\n\n	 \n\n	On the heels of Elmhurst's 175th Anniversary celebration\, our Chamber wishes to pay tribute to those members who contribute to the community's diversity of arts and culture. \n\n	\n\n	The event is sponsored by BMO Harris Bank.\n\n	\n\n	This year's honorees include:\n\n	Beyond Center Stage\n\n	Choral-Aires Chorus\n\n	Deforest Dance Academy\n\n	Elmhurst Art Museum\n\n	Elmhurst Artists' Guild\n\n	Elmhurst Choral Union\n\n	Elmhurst College\n\n	Elmhurst Historical Museum\n\n	Elmhurst Panhellenic Association\n\n	Elmhurst Park District\n\n	Elmhurst Public Library\n\n	Elmhurst School District 205\n\n	Elmhurst Symphony Association\n\n	Elmhurst YMCA\n\n	GreenMan Theatre Troupe\n\n	High Energy Party Productions\n\n	Immaculate Conception Schools\n\n	Immanuel Lutheran School\n\n	K & T Colors\n\n	Lizzadro Museum of Lapidary Art\n\n	Mullane Healey Godley Irish Dance\n\n	RGL Marketing for the Arts\n\n	School of Rock-Elmhurst\n\n	Spirito! Singers\n\n	Timothy Christian Schools\n\n	Trinity Academy of Irish Dance\n\n	York Theatre/Classic Cinemas
X-ALT-DESC;FMTTYPE=text/html:<div>\n	<br />\n	<strong>Spring Luncheon 2012</strong></div>\n<div>\n	<strong>&quot\;Salute to the Arts&nbsp\;&amp\; Culture&quot\;</strong></div>\n<div>\n	&nbsp\;</div>\n<div>\n	On the heels of Elmhurst&#39\;s 175th Anniversary celebration\, our Chamber wishes to pay tribute to those members who contribute to the community&#39\;s diversity of arts and culture.&nbsp\;<br />\n	<br />\n	The event is sponsored by BMO Harris Bank.<br />\n	<br />\n	This year&#39\;s honorees include:<br />\n	<span lang="EN">Beyond Center Stage</span><br />\n	<span lang="EN">Choral-Aires Chorus</span><br />\n	<span lang="EN">Deforest Dance Academy</span><br />\n	<span lang="EN">Elmhurst Art Museum<br />\n	Elmhurst Artists&#39\; Guild</span><br />\n	<span lang="EN">Elmhurst Choral Union</span><br />\n	<span lang="EN">Elmhurst College</span><br />\n	<span lang="EN">Elmhurst Historical Museum</span><br />\n	<span lang="EN">Elmhurst Panhellenic Association</span><br />\n	<span lang="EN">Elmhurst Park District</span><br />\n	<span lang="EN">Elmhurst Public Library</span><br />\n	<span lang="EN">Elmhurst School District 205</span><br />\n	<span lang="EN">Elmhurst Symphony Association</span><br />\n	<span lang="EN">Elmhurst YMCA</span><br />\n	<span lang="EN">GreenMan Theatre Troupe</span><br />\n	<span lang="EN">High Energy Party Productions</span><br />\n	<span lang="EN">Immaculate Conception Schools</span><br />\n	<span lang="EN">Immanuel Lutheran School<br />\n	K &amp\; T Colors</span><br />\n	<span lang="EN">Lizzadro Museum of Lapidary Art</span><br />\n	<span lang="EN">Mullane Healey Godley Irish Dance<br />\n	RGL Marketing&nbsp\;for the&nbsp\;Arts<br />\n	School of Rock-Elmhurst</span><br />\n	<span lang="EN">Spirito! Singers</span><br />\n	<span lang="EN">Timothy Christian Schools</span><br />\n	<span lang="EN">Trinity Academy of Irish Dance</span><br />\n	<span lang="EN">York Theatre/Classic Cinemas<span _fck_bookmark="1" style="display: none">&nbsp\;</span></span></div>\n
LOCATION:Waterford Banquet Center Clarion Hotel Conference Center 933 South Riverside Drive Elmhurst\, IL 60126
UID:e.333.4822
SEQUENCE:3
DTSTAMP:20260425T035827Z
URL:https://chambermaster.elmhurstchamber.org/events/details/salute-to-the-arts-culture-spring-luncheon-04-25-2012-4822
END:VEVENT

END:VCALENDAR
