BEGIN:VCALENDAR
VERSION:2.0
PRODID:-//ChamberMaster//Event Calendar 2.0//EN
METHOD:PUBLISH
X-PUBLISHED-TTL:P3D
REFRESH-INTERVAL:P3D
CALSCALE:GREGORIAN
BEGIN:VEVENT
DTSTART;VALUE=DATE:20130406
DTEND;VALUE=DATE:20130407
TRANSP:TRANSPARENT
X-MICROSOFT-CDO-ALLDAYEVENT:TRUE
SUMMARY:Second Annual 2013 Spring Fling Scramble
DESCRIPTION:If you have participated in our annual Fall Classic in October\, you will not be disappointed with our Spring Fling!  The format will be a four-player scramble/best ball event and will include a tee gift\, prices and buffet dinner for all participants!
X-ALT-DESC;FMTTYPE=text/html:<p class="MsoNormal" style="margin: 0in 0in 0pt 0.1in\;">\n	<span style="font-size: 10pt\;"><font color="#000000"><font face="Calibri">If you have participated in our annual Fall Classic in October\, you will not be disappointed with our Spring Fling!<span style="mso-spacerun: yes\;">&nbsp\; </span>The format will be a four-player scramble/best ball event and will include a tee gift\, prices and buffet dinner for all participants! <o:p></o:p></font></font></span></p>\n
LOCATION:Sugar Creek Golf Course
UID:e.333.5210
SEQUENCE:3
DTSTAMP:20260422T194058Z
URL:https://chambermaster.elmhurstchamber.org/events/details/second-annual-2013-spring-fling-scramble-04-06-2013-5210
END:VEVENT

END:VCALENDAR
