BEGIN:VCALENDAR
VERSION:2.0
PRODID:-//ChamberMaster//Event Calendar 2.0//EN
METHOD:PUBLISH
X-PUBLISHED-TTL:P3D
REFRESH-INTERVAL:P3D
CALSCALE:GREGORIAN
BEGIN:VEVENT
DTSTART;VALUE=DATE:20130618
DTEND;VALUE=DATE:20130720
TRANSP:TRANSPARENT
X-MICROSOFT-CDO-ALLDAYEVENT:TRUE
SUMMARY:Self-Taught Artist Merges Primitive with Postmodern
DESCRIPTION:A new solo exhibition at the Elmhurst Artists' Guild\, featuring self-taught artist Peter M Steeves\, runs from June 18 through July 19 in the EAG Gallery at the Elmhurst Art Museum\, 150 S. Cottage Hill Ave.\, Elmhurst\, Illinois. A meet-the-artist reception will be held in the gallery Friday\, June 21\, from 6 to 9 pm.  Both the show and the reception are open to the public.  An active member of the Guild\, Steeves describes his work as merging elements of primitive symbolic\, postmodern realism with a bit of a surrealistic twist.
X-ALT-DESC;FMTTYPE=text/html:<span style="font-size:11pt\;"><span style="font-family:arial\;">A new solo exhibition at the Elmhurst Artists&rsquo\; Guild\, featuring self-taught artist Peter M Steeves\, runs from June 18 through July 19 in the EAG Gallery at the Elmhurst Art Museum\, 150 S. Cottage Hill Ave.\, Elmhurst\, Illinois. A meet-the-artist reception will be held in the gallery Friday\, June 21\, from 6 to 9 pm.&nbsp\; Both the show and the reception are open to the public.</span></span><span style="font-size:11pt\;"><span style="font-family:arial\;">&nbsp\; An active member of the Guild\, Steeves describes his work as merging elements of primitive symbolic\, postmodern realism with a bit of a surrealistic twist.</span></span>
LOCATION:Elmhurst Art Museum 150 S. Cottage Hill Ave.\, Elmhurst\, Illinois
UID:e.333.5325
SEQUENCE:3
DTSTAMP:20260422T163407Z
URL:https://chambermaster.elmhurstchamber.org/events/details/self-taught-artist-merges-primitive-with-postmodern-06-18-2013-5325
END:VEVENT

END:VCALENDAR
