BEGIN:VCALENDAR
VERSION:2.0
PRODID:-//ChamberMaster//Event Calendar 2.0//EN
METHOD:PUBLISH
X-PUBLISHED-TTL:P3D
REFRESH-INTERVAL:P3D
CALSCALE:GREGORIAN
BEGIN:VEVENT
DTSTART:20130610T174500Z
DTEND:20130614T201500Z
X-MICROSOFT-CDO-ALLDAYEVENT:FALSE
SUMMARY:Senior Nature Camp
DESCRIPTION:Ages 55 and Older\n\nDo you remember how much fun camp was?  Come join us for a week that will rejuvenate your spirit and reconnect you to the natural world.  We will explore plant and animal life in  the community and create nature-based artwork.  Please visit our website for code number of class.
X-ALT-DESC;FMTTYPE=text/html:Ages 55 and Older<br />\nDo you remember how much fun camp was?&nbsp\; Come join us for a week that will rejuvenate your spirit and reconnect you to the natural world.&nbsp\; We will explore plant and animal life in&nbsp\; the community and create nature-based artwork.&nbsp\;&nbsp\;Please visit our&nbsp\;website for code number of class.
LOCATION:Eldridge Park Lower Rec Building
UID:e.333.5202
SEQUENCE:3
DTSTAMP:20260422T163648Z
URL:https://chambermaster.elmhurstchamber.org/events/details/senior-nature-camp-06-10-2013-5202
END:VEVENT

END:VCALENDAR
