BEGIN:VCALENDAR
VERSION:2.0
PRODID:-//ChamberMaster//Event Calendar 2.0//EN
METHOD:PUBLISH
X-PUBLISHED-TTL:P3D
REFRESH-INTERVAL:P3D
CALSCALE:GREGORIAN
BEGIN:VEVENT
DTSTART:20250508T200000Z
DTEND:20250508T230000Z
X-MICROSOFT-CDO-ALLDAYEVENT:FALSE
SUMMARY:SERVPRO Happy Hour
DESCRIPTION:Stop by for drinks and appetizers hosted by SERVPRO of Elmhurst. Let us show our appreciation to our community.
X-ALT-DESC;FMTTYPE=text/html:Stop by for drinks and appetizers hosted by SERVPRO of Elmhurst. Let us show our appreciation to our community.
LOCATION:Gia Mia of Elmhurst 116 E Schiller St Elmhurst
UID:e.333.17040
SEQUENCE:3
DTSTAMP:20260419T172426Z
URL:https://chambermaster.elmhurstchamber.org/events/details/servpro-happy-hour-17040
END:VEVENT

END:VCALENDAR
