BEGIN:VCALENDAR
VERSION:2.0
PRODID:-//ChamberMaster//Event Calendar 2.0//EN
METHOD:PUBLISH
X-PUBLISHED-TTL:P3D
REFRESH-INTERVAL:P3D
CALSCALE:GREGORIAN
BEGIN:VEVENT
DTSTART:20111023T190000Z
DTEND:20111023T213000Z
X-MICROSOFT-CDO-ALLDAYEVENT:FALSE
SUMMARY:Shopping (need I say more?) at My Friend's Place Salon & Nails
DESCRIPTION:Sunday ~ Funday...Ladies day of Shopping!\n\n	\n\n	You Are Invited:\n\n	Shop till you drop Sunday!\n\n	You are invited to an open house event at: \n\n	My Friend's Place Salon\n\n	112 W. Third Street\n\n	Elmhurst\, IL\n\n	630-832-4175\n\n	Sunday\n\n	October\, 23rd\n\n	2:00 - 4:30\n\n	\n\n	Grab the girls and come enjoy a Sunday to yourselves!\n\n	\n\n	We'll pour you a glass of wine while you browse the gorgeous items.\n\n	\n\n	Whether you're shopping for yourselves or someone special\, you'll be sure to find some treasures here.\n\n	\n\n	Feel free to stay throughout or pop in for a glass of wine and to say "hello."\n\n	\n\n	We are having Lia Sophia\, Beijo Handbags and accessories\, Zen 100% Mineral Cosmetics and Ageloc.\n\n	There is sure to be something for everyone.\n\n	See you then!\n\n	\n\n	Can't make it? You can visit their websites and shop!\n\n	\n\n	Lia Sophia: http://www.liasophia.com/marydoherty\n\n	\n\n	Beijo Bags: https://www.facebook.com/pages/Kims-Pursenal-Boutique/211541005578215
X-ALT-DESC;FMTTYPE=text/html:<h3 style="text-align: center\; color: red">\n	<span style="font-size: 18px">Sunday ~ Funday...Ladies day of Shopping!<br />\n	<br />\n	You Are Invited:</span></h3>\n<h3 style="text-align: center">\n	<span style="font-size: 18px"><span style="font-family: comic sans ms">Shop till you drop Sunday!<br />\n	You are invited to an open house event at: </span></span></h3>\n<h3 style="text-align: center">\n	<span style="font-size: 18px"><span style="font-family: comic sans ms">My Friend&#39\;s Place Salon<br />\n	112 W. Third Street<br />\n	Elmhurst\, IL<br />\n	630-832-4175</span></span></h3>\n<h3 style="text-align: center">\n	<span style="font-size: 18px"><span style="font-family: comic sans ms">Sunday<br />\n	October\, 23rd<br />\n	2:00 - 4:30</span></span></h3>\n<p style="text-align: center">\n	<br />\n	<span style="font-size: 18px"><span style="font-family: comic sans ms">Grab the girls and come enjoy a Sunday to yourselves!<br />\n	<br />\n	We&#39\;ll pour you a glass of wine while you browse the gorgeous items.</span></span></p>\n<p style="text-align: center">\n	<br />\n	<span style="font-size: 18px"><span style="font-family: comic sans ms">Whether you&#39\;re shopping for yourselves or someone special\, you&#39\;ll be sure to find some treasures here.<br />\n	<br />\n	Feel free to stay throughout or pop in for a glass of wine and to say &quot\;hello.&quot\;<br />\n	<br />\n	We are having Lia Sophia\, Beijo Handbags and accessories\, Zen 100% Mineral Cosmetics and Ageloc.<br />\n	There is sure to be something for everyone.<br />\n	See you then!<br />\n	<br />\n	Can&#39\;t make it? You can&nbsp\;visit their websites and shop!<br />\n	<br />\n	Lia Sophia:<u> http://www.liasophia.com/marydoherty</u><br />\n	<br />\n	Beijo Bags: <a href="https://www.facebook.com/pages/Kims-Pursenal-Boutique/211541005578215">https://www.facebook.com/pages/Kims-Pursenal-Boutique/211541005578215</a></span></span></p>\n
LOCATION:112 W. Third Street
UID:e.333.4522
SEQUENCE:3
DTSTAMP:20260425T120618Z
URL:https://chambermaster.elmhurstchamber.org/events/details/shopping-need-i-say-more-at-my-friend-s-place-salon-nails-10-23-2011-4522
END:VEVENT

END:VCALENDAR
