BEGIN:VCALENDAR
VERSION:2.0
PRODID:-//ChamberMaster//Event Calendar 2.0//EN
METHOD:PUBLISH
X-PUBLISHED-TTL:P3D
REFRESH-INTERVAL:P3D
CALSCALE:GREGORIAN
BEGIN:VEVENT
DTSTART:20120918T000000Z
DTEND:20120918T020000Z
X-MICROSOFT-CDO-ALLDAYEVENT:FALSE
SUMMARY:Singer Auditions/Elmhurst Choral Union
DESCRIPTION:Love to sing?  Experience the thrill of singing will a full  professional orchestra with Elmhurst Choral Union.\n\n\n\nECU membership is open to singers\, high school age and up\, with previous choral experience or the ability to read music.\n\n\n\nTo reserve an auditon appointment on September 17\, contact ECU at elmhurstchoralunion.org or 630-758-1100.\n\n\n\nElmhurst Choral Union celebrates 60 years as an auditioned volunteer choir\, performing classical masterworks and great choral music of all eras.
X-ALT-DESC;FMTTYPE=text/html:Love to sing?&nbsp\; Experience the thrill of singing will a full&nbsp\; professional orchestra with Elmhurst Choral Union.<br />\n<br />\nECU membership is open to singers\, high school age and up\, with previous choral experience or the ability to read music.<br />\n<br />\nTo reserve an auditon appointment on September 17\, contact ECU at elmhurstchoralunion.org or 630-758-1100.<br />\n<br />\nElmhurst Choral Union celebrates 60 years as an auditioned volunteer choir\, performing classical masterworks and great choral music of all eras.
LOCATION:Elmhurst College Irion Hall\, 190 Prospect
UID:e.333.4922
SEQUENCE:3
DTSTAMP:20260424T175722Z
URL:https://chambermaster.elmhurstchamber.org/events/details/singer-auditions-elmhurst-choral-union-09-17-2012-4922
END:VEVENT

END:VCALENDAR
