BEGIN:VCALENDAR
VERSION:2.0
PRODID:-//ChamberMaster//Event Calendar 2.0//EN
METHOD:PUBLISH
X-PUBLISHED-TTL:P3D
REFRESH-INTERVAL:P3D
CALSCALE:GREGORIAN
BEGIN:VEVENT
DTSTART:20130608T170000Z
DTEND:20130608T230000Z
X-MICROSOFT-CDO-ALLDAYEVENT:FALSE
SUMMARY:Skate Competition
DESCRIPTION:Ages 8 and older\n\nCome out and try your skills in several different competitions: half pipe\, best trick\, free skate and a game of SKATE.  With three different age groups\, you're sure to have a great time.  The event is Saturday\, June 11\, check in starts at 10 a.m. and the first event starts rollin' at 11 a.m.  For more information call (630) 993-8980. HELMETS REQUIRED.
X-ALT-DESC;FMTTYPE=text/html:Ages 8 and older<br />\n<span style="font-size: 10pt\;"><font color="#000000"><font face="Calibri">Come out and try your skills in several different competitions: half pipe\, best trick\, free skate and a game of SKATE.<span style="mso-spacerun: yes\;">&nbsp\; </span>With three different age groups\, you&rsquo\;re sure to have a great time.<span style="mso-spacerun: yes\;">&nbsp\; </span>The event is Saturday\, June 11\, check in starts at 10 a.m. and the first event starts rollin&rsquo\; at 11 a.m.<span style="mso-spacerun: yes\;">&nbsp\; </span>For more information call (630) 993-8980. HELMETS REQUIRED.<o:p></o:p></font></font></span><font color="#000000" face="Times New Roman" size="3"> &nbsp\; </font>
LOCATION:York Commons Skate Park
UID:e.333.5208
SEQUENCE:3
DTSTAMP:20260422T180427Z
URL:https://chambermaster.elmhurstchamber.org/events/details/skate-competition-06-08-2013-5208
END:VEVENT

END:VCALENDAR
