BEGIN:VCALENDAR
VERSION:2.0
PRODID:-//ChamberMaster//Event Calendar 2.0//EN
METHOD:PUBLISH
X-PUBLISHED-TTL:P3D
REFRESH-INTERVAL:P3D
CALSCALE:GREGORIAN
BEGIN:VEVENT
DTSTART:20121221T223000Z
DTEND:20121222T050000Z
X-MICROSOFT-CDO-ALLDAYEVENT:FALSE
SUMMARY:Ski\, Snowboard\, or Snowtube at Villa Olivia
DESCRIPTION:Enjoy hitting the slopes? Whether you want to ski\, snowboard\, or snowtube\, Villa Olivia has it all! We'll meet at the Wagner Center at the end of the night. Don't forget warm clothes and spending money! \n\n	 \n\n	Fee: $30 lift ticket\; $60 lift ticket and ski rental \n\n	        $70 lift ticket and snowboard rental\; $20 snowtube \n\n	Time: 4:30   11 p.m.\n\n	Location: Wagner Community Center Main Parking Lot\n\n	Ages 11-18
X-ALT-DESC;FMTTYPE=text/html:<p class="MsoNormal" style="margin: 0in 0in 0pt">\n	<span style="line-height: 115%\; font-family: 'cambria'\, 'serif'\; font-size: 12pt\; mso-ascii-theme-font: major-latin\; mso-hansi-theme-font: major-latin"><font color="#000000">Enjoy hitting the slopes? Whether you want to ski\, snowboard\, or snowtube\, Villa Olivia has it all! We&rsquo\;ll meet at the Wagner Center at the end of the night. Don&rsquo\;t forget warm clothes and spending money! <o:p></o:p></font></span></p>\n<p class="MsoNormal" style="margin: 0in 0in 0pt">\n	<span style="line-height: 115%\; font-family: 'cambria'\, 'serif'\; font-size: 12pt\; mso-ascii-theme-font: major-latin\; mso-hansi-theme-font: major-latin"><o:p><font color="#000000">&nbsp\;</font></o:p></span></p>\n<p class="MsoNormal" style="margin: 0in 0in 0pt">\n	<span style="line-height: 115%\; font-family: 'cambria'\, 'serif'\; font-size: 12pt\; mso-ascii-theme-font: major-latin\; mso-hansi-theme-font: major-latin"><font color="#000000">Fee: $30 lift ticket\; $60 lift ticket and ski rental <o:p></o:p></font></span></p>\n<p class="MsoNormal" style="margin: 0in 0in 0pt">\n	<span style="line-height: 115%\; font-family: 'cambria'\, 'serif'\; font-size: 12pt\; mso-ascii-theme-font: major-latin\; mso-hansi-theme-font: major-latin"><font color="#000000"><span style="mso-spacerun: yes">&nbsp\;&nbsp\;&nbsp\;&nbsp\;&nbsp\;&nbsp\;&nbsp\; </span>$70 lift ticket and snowboard rental\; $20 snowtube <o:p></o:p></font></span></p>\n<p class="MsoNormal" style="margin: 0in 0in 0pt">\n	<span style="line-height: 115%\; font-family: 'cambria'\, 'serif'\; font-size: 12pt\; mso-ascii-theme-font: major-latin\; mso-hansi-theme-font: major-latin"><font color="#000000">Time: 4:30 &ndash\; 11 p.m.<o:p></o:p></font></span></p>\n<p class="MsoNormal" style="margin: 0in 0in 0pt">\n	<span style="line-height: 115%\; font-family: 'cambria'\, 'serif'\; font-size: 12pt\; mso-ascii-theme-font: major-latin\; mso-hansi-theme-font: major-latin"><font color="#000000">Location: Wagner Community Center Main Parking Lot<br />\n	Ages 11-18</font></span></p>\n
LOCATION:Wagner Community Center Main Parking Lot
UID:e.333.4916
SEQUENCE:3
DTSTAMP:20260424T133945Z
URL:https://chambermaster.elmhurstchamber.org/events/details/ski-snowboard-or-snowtube-at-villa-olivia-12-21-2012-4916
END:VEVENT

END:VCALENDAR
