BEGIN:VCALENDAR
VERSION:2.0
PRODID:-//ChamberMaster//Event Calendar 2.0//EN
METHOD:PUBLISH
X-PUBLISHED-TTL:P3D
REFRESH-INTERVAL:P3D
CALSCALE:GREGORIAN
BEGIN:VEVENT
DTSTART;VALUE=DATE:20121201
DTEND;VALUE=DATE:20130301
TRANSP:TRANSPARENT
X-MICROSOFT-CDO-ALLDAYEVENT:TRUE
SUMMARY:Sled Hills and Ice Skating (weather permitting)
DESCRIPTION:Three lighted sled hills are available for use at Berens Park\, Crestview Park\, and Eldridge Park depending on appropriate snow conditions.  ONLY THE FOLLOWING DEVICES ARE ALLOWED ON THE SLED HILL: plastic sleds\, tubes\, saucers\, and toboggans.  ALL OTHER DEVICES ARE PROHIBITED.\n\n\n\nOutdoor skating is allowed only at Eldridge Lagoon.  Skating is permitted when the ice reaches a consistent thickness of 8".  Signs and green flag will be posted when lagoon is suitable for skating.  ICE FISHING IS PROHIBITED.
X-ALT-DESC;FMTTYPE=text/html:Three lighted sled hills are available for use at Berens Park\, Crestview Park\, and Eldridge Park depending on appropriate snow conditions.&nbsp\; ONLY THE FOLLOWING DEVICES ARE ALLOWED ON THE SLED HILL: plastic sleds\, tubes\, saucers\, and toboggans.&nbsp\; ALL OTHER DEVICES ARE PROHIBITED.<br />\n<br />\nOutdoor skating is allowed only at Eldridge Lagoon.&nbsp\; Skating is permitted when the ice reaches a consistent thickness of 8&quot\;.&nbsp\; Signs and green flag will be posted when lagoon is suitable for skating.&nbsp\; ICE FISHING IS PROHIBITED.
LOCATION:Berens\, Crestview\, and Eldridge Parks
UID:e.333.5106
SEQUENCE:3
DTSTAMP:20260424T102443Z
URL:https://chambermaster.elmhurstchamber.org/events/details/sled-hills-and-ice-skating-weather-permitting-12-01-2012-5106
END:VEVENT

END:VCALENDAR
