BEGIN:VCALENDAR
VERSION:2.0
PRODID:-//ChamberMaster//Event Calendar 2.0//EN
METHOD:PUBLISH
X-PUBLISHED-TTL:P3D
REFRESH-INTERVAL:P3D
CALSCALE:GREGORIAN
BEGIN:VEVENT
DTSTART:20120714T130000Z
DTEND:20120714T160000Z
X-MICROSOFT-CDO-ALLDAYEVENT:FALSE
SUMMARY:Smalley Pool Cardboard Boat Regatta
DESCRIPTION:Got a knack for building things? Your mission is to build a boat out of cardboard and duct tape at home that is capable of being launched and paddled across the pool while holding two people! \n\n	$12 boat fee. Ages six and older. \n\n	Each age group will have the opportunity to win different awards. Check-in starts at 8 a.m. and the first heat will begin at 9 a.m. Registration packets can be picked up at the Wagner Community Center and East End or Smalley Pools.
X-ALT-DESC;FMTTYPE=text/html:<p>\n	<span style="font-size: 11pt"><font color="#000000">Got a knack for building things? Your mission is to build a boat out of cardboard and duct tape at home that is capable of being launched and paddled across the pool while holding two people! <o:p></o:p></font></span></p>\n<p>\n	<span style="font-size: 11pt"><font color="#000000">$12 boat fee. Ages six and older. <o:p></o:p></font></span></p>\n<p>\n	<span style="font-size: 11pt"><font color="#000000">Each age group will have the opportunity to win different awards. Check-in starts at 8 a.m. and the first heat will begin at 9 a.m. Registration packets can be picked up at the Wagner Community Center and East End or Smalley Pools.<o:p></o:p></font></span></p>\n
LOCATION:Norman P. Smalley pool
UID:e.333.4860
SEQUENCE:3
DTSTAMP:20260424T212417Z
URL:https://chambermaster.elmhurstchamber.org/events/details/smalley-pool-cardboard-boat-regatta-07-14-2012-4860
END:VEVENT

END:VCALENDAR
