BEGIN:VCALENDAR
VERSION:2.0
PRODID:-//ChamberMaster//Event Calendar 2.0//EN
METHOD:PUBLISH
X-PUBLISHED-TTL:P3D
REFRESH-INTERVAL:P3D
CALSCALE:GREGORIAN
BEGIN:VEVENT
DTSTART:20130720T130000Z
DTEND:20130720T160000Z
X-MICROSOFT-CDO-ALLDAYEVENT:FALSE
SUMMARY:Smalley Pool Cardboard Boat Regatta
DESCRIPTION:Ages 6 and older\n\n	Your mission is to build a boat out of cardboard and duct tape at home that is capable of being launched and paddled across the pool while holding two people!  Each age group will have the opportunity to win different awards.  Check-in starts at 8 a.m. and the first heat will begin at 9 a.m.  Registration packets can be picked up at Wagner Community Center and East End or Smalley Pools.  Please call (630) 993-4724 for more information.
X-ALT-DESC;FMTTYPE=text/html:<p class="MsoNormal" style="margin: 0in 0in 0pt 0.1in\;">\n	<font color="#000000" face="Calibri" size="3">Ages 6 and older</font></p>\n<p class="MsoNormal" style="margin: 0in 0in 0pt 0.1in\;">\n	<font color="#000000" face="Calibri" size="3">Your mission is to build a boat out of cardboard and duct tape at home that is capable of being launched and paddled across the pool while holding two people!<span style="mso-spacerun: yes\;">&nbsp\; </span>Each age group will have the opportunity to win different awards.<span style="mso-spacerun: yes\;">&nbsp\; </span>Check-in starts at 8 a.m. and the first heat will begin at 9 a.m.<span style="mso-spacerun: yes\;">&nbsp\; </span>Registration packets can be picked up at Wagner Community Center and East End or Smalley Pools.<span style="mso-spacerun: yes\;">&nbsp\; </span>Please call (630) 993-4724 for more information.</font></p>\n
LOCATION:Norman P. Smalley Pool
UID:e.333.5304
SEQUENCE:3
DTSTAMP:20260422T163420Z
URL:https://chambermaster.elmhurstchamber.org/events/details/smalley-pool-cardboard-boat-regatta-07-20-2013-5304
END:VEVENT

END:VCALENDAR
