BEGIN:VCALENDAR
VERSION:2.0
PRODID:-//ChamberMaster//Event Calendar 2.0//EN
METHOD:PUBLISH
X-PUBLISHED-TTL:P3D
REFRESH-INTERVAL:P3D
CALSCALE:GREGORIAN
BEGIN:VEVENT
DTSTART:20130914T150000Z
DTEND:20130914T170000Z
X-MICROSOFT-CDO-ALLDAYEVENT:FALSE
SUMMARY:Soapstone Carving
DESCRIPTION:Lapidary Lorel Abrell teaches participants how to successfully carve soapstone. Simple tools and techniques are used in carving this soft and inexpensive material. Learn the basics from blocking out a design to final polish. Take home a carving of your own creation. All materials are included. Ages 9 years. to Adult. $15.00 per person.
X-ALT-DESC;FMTTYPE=text/html:Lapidary Lorel Abrell teaches participants how to successfully carve soapstone. Simple tools and techniques are used in carving this soft and inexpensive material. Learn the basics from blocking out a design to final polish. Take home a carving of your own creation. All materials are included. Ages 9 years. to Adult. $15.00 per person.
LOCATION:Lizzadro Museum of Lapidary Art 220 Cottage Hill Elmhurst\, IL 60126
UID:e.333.5320
SEQUENCE:3
DTSTAMP:20260422T112021Z
URL:https://chambermaster.elmhurstchamber.org/events/details/soapstone-carving-09-14-2013-5320
END:VEVENT

END:VCALENDAR
