BEGIN:VCALENDAR
VERSION:2.0
PRODID:-//ChamberMaster//Event Calendar 2.0//EN
METHOD:PUBLISH
X-PUBLISHED-TTL:P3D
REFRESH-INTERVAL:P3D
CALSCALE:GREGORIAN
BEGIN:VEVENT
DTSTART:20121201T180000Z
DTEND:20121201T220000Z
X-MICROSOFT-CDO-ALLDAYEVENT:FALSE
SUMMARY:Spa Day with Santa
DESCRIPTION:Princess Spa day with santa! \n\n	Where? \n\n	Kim's Manus Cura Salon\n\n	\n\n	When?\n\n	\n\n	Sat.Dec.1. 2012 \n\n	12-4 p.m.\n\n	\n\n	Includes? \n\n	Salon Snacks\, Drinks' \n\n	Goody Bags\, Manicure\, \n\n	Hair D cor and Picture with Santa!\n\n	\n\n	Price?\n\n	$30.00 Per Princess\n\n	\n\n	By appointment only (630) 478-3681\n\n	Stop in at Luscombe Music for Ornament making and \n\n	Bachabees for a Surprise!!\n\n	 \n\n	Address: 126 W. Vallette St. Elmhurst\, IL 60126\n\n	\n\n	To view pdf: http://cloud.chambermaster.com/userfiles/UserFiles/chambers/333/File/picturewithsanta3.pdf
X-ALT-DESC;FMTTYPE=text/html:<p align="left">\n	&nbsp\;</p>\n<p>\n	<font size="7">Princess Spa day with santa! </font></p>\n<p>\n	<strong><font face="Calibri\,Calibri" size="4"><font face="Calibri\,Calibri" size="4">Where? </font></font></strong></p>\n<p>\n	<font face="Calibri\,Calibri" size="4"><font face="Calibri\,Calibri" size="4">Kim&rsquo\;s Manus Cura Salon<br />\n	<br />\n	<strong>When?</strong><br />\n	<br />\n	Sat.Dec.1. 2012 </font></font></p>\n<p>\n	<font face="Calibri\,Calibri" size="4"><font face="Calibri\,Calibri" size="4">12-4 p.m.<br />\n	<br />\n	<strong>Includes? </strong></font></font></p>\n<p>\n	<font face="Calibri\,Calibri" size="4"><font face="Calibri\,Calibri" size="4">Salon Snacks\, Drinks&rsquo\; </font></font></p>\n<p>\n	<font face="Calibri\,Calibri" size="4"><font face="Calibri\,Calibri" size="4">Goody Bags\, Manicure\, </font></font></p>\n<p>\n	<font face="Calibri\,Calibri" size="4"><font face="Calibri\,Calibri" size="4">Hair D&eacute\;cor and Picture with Santa!<br />\n	<br />\n	<strong>Price?</strong></font></font></p>\n<p>\n	<font face="Calibri\,Calibri" size="4"><font face="Calibri\,Calibri" size="4">$30.00 Per </font></font><font face="Calibri\,Calibri" size="4"><font face="Calibri\,Calibri" size="4">Princess<br />\n	<br />\n	By appointment only (630) 478-3681</font></font></p>\n<p>\n	<font face="Calibri\,Calibri" size="5"><font face="Calibri\,Calibri" size="5">Stop in at</font></font><font face="Calibri\,Calibri" size="5"><font face="Calibri\,Calibri" size="5">&nbsp\;Luscombe Music for </font></font><font face="Calibri\,Calibri" size="5"><font face="Calibri\,Calibri" size="5">Ornament making and </font></font></p>\n<p>\n	<font face="Calibri\,Calibri" size="5"><font face="Calibri\,Calibri" size="5">Bachabees for a Surprise!!<br />\n	&nbsp\;</font></font></p>\n<p>\n	<font face="Calibri\,Calibri" size="5"><font face="Calibri\,Calibri" size="5">Address: 126 W. Vallette St. Elmhurst\, IL 60126</font></font><br />\n	<br />\n	To view pdf: <a href="http://cloud.chambermaster.com/userfiles/UserFiles/chambers/333/File/picturewithsanta3.pdf">http://cloud.chambermaster.com/userfiles/UserFiles/chambers/333/File/picturewithsanta3.pdf</a><span _fck_bookmark="1" style="display: none">&nbsp\;</span><br />\n	<font face="Calibri\,Calibri" size="7"><font face="Calibri\,Calibri" size="7">&nbsp\;</font></font></p>\n<font face="Calibri\,Calibri" size="7"><font face="Calibri\,Calibri" size="7"><span _fck_bookmark="1" style="display: none">&nbsp\;</span></font></font>
LOCATION:126 W. Vallette St. Elmhurst
UID:e.333.5132
SEQUENCE:3
DTSTAMP:20260424T145358Z
URL:https://chambermaster.elmhurstchamber.org/events/details/spa-day-with-santa-12-01-2012-5132
END:VEVENT

END:VCALENDAR
