BEGIN:VCALENDAR
VERSION:2.0
PRODID:-//ChamberMaster//Event Calendar 2.0//EN
METHOD:PUBLISH
X-PUBLISHED-TTL:P3D
REFRESH-INTERVAL:P3D
CALSCALE:GREGORIAN
BEGIN:VEVENT
DTSTART:20120318T200000Z
DTEND:20120318T220000Z
X-MICROSOFT-CDO-ALLDAYEVENT:FALSE
SUMMARY:Spektral Quartet
DESCRIPTION:Hailed as one of the top 5 classical performaces of 2010 by TimeOut Chicago\, the Spektral Quartet's adroit musicality and nnovative programming promise to bring a new twist to the concept of classical strings. Part ot the Music at Bethel Concert Series.
X-ALT-DESC;FMTTYPE=text/html:Hailed as one of the top 5 classical performaces of 2010 by TimeOut Chicago\, the Spektral Quartet&#39\;s adroit musicality and nnovative programming promise to bring a new twist to the concept of classical strings. Part ot the Music at Bethel Concert Series.
LOCATION:Bethel United Church of Christ 315 E St. Charles Road Elmhurst\, IL
UID:e.333.4526
SEQUENCE:3
DTSTAMP:20260425T035240Z
URL:https://chambermaster.elmhurstchamber.org/events/details/spektral-quartet-03-18-2012-4526
END:VEVENT

END:VCALENDAR
