BEGIN:VCALENDAR
VERSION:2.0
PRODID:-//ChamberMaster//Event Calendar 2.0//EN
METHOD:PUBLISH
X-PUBLISHED-TTL:P3D
REFRESH-INTERVAL:P3D
CALSCALE:GREGORIAN
BEGIN:VEVENT
DTSTART:20121208T013000Z
DTEND:20121208T033000Z
X-MICROSOFT-CDO-ALLDAYEVENT:FALSE
SUMMARY:Spirito! Concert O Holy Night
DESCRIPTION:Come join us for an evening of beautiful music as all three Spirito! ensembles perform at this holiday choral concert.  Immanuel Lutheran Church will be filled with 190 glorious voices along with multiple guest musicians.  Please visit our website at www.spiritosingers.org for tickets\, CD orders and more information about this local treasure.
X-ALT-DESC;FMTTYPE=text/html:Come join us for an evening of beautiful music as all three Spirito! ensembles perform at this holiday choral concert.&nbsp\; Immanuel Lutheran Church will be filled with 190 glorious voices along with multiple guest musicians.&nbsp\; Please visit our website at www.spiritosingers.org for tickets\, CD orders and more information about this local treasure.&nbsp\; 
LOCATION:Immanuel Lutheran Church 142 E. 3rd Street Elmhurst\, IL
UID:e.333.5133
SEQUENCE:3
DTSTAMP:20260424T132630Z
URL:https://chambermaster.elmhurstchamber.org/events/details/spirito-concert-o-holy-night-12-07-2012-5133
END:VEVENT

END:VCALENDAR
