BEGIN:VCALENDAR
VERSION:2.0
PRODID:-//ChamberMaster//Event Calendar 2.0//EN
METHOD:PUBLISH
X-PUBLISHED-TTL:P3D
REFRESH-INTERVAL:P3D
CALSCALE:GREGORIAN
BEGIN:VEVENT
DTSTART:20130603T140000Z
DTEND:20130816T170000Z
X-MICROSOFT-CDO-ALLDAYEVENT:FALSE
SUMMARY:Splatters' 2013 Summer Art Camps!
DESCRIPTION:Splatters' 2013 Summer Art Camps!\n\n	Spring is here  and that means Summer is just around the corner! Have you started your search for summer camps yet? Well\, look no further Splatters Create & Party has four different art camps for all ages and skill levels! Let your kids explore their favorite ways of creating\, in our Fun With Art Camp\; take a trip to the Tropics without leaving Illinois\, in our Tropical Art Camp\; take a creative trip through time\, exploring and creating art\, in the style of famous artists\, in our Famous Artists Camp\; or let them experience our brand new camp just for Tweens/Teens! Camps run Monday through Friday from 9-12pm or 1-4pm. You must pre register but you better hurry\, camps fill up quickly! Register by April 30th and receive $40 off. Sign up two or more siblings and receive $15 off each additional child. "Refer a Friend" and receive $15 off. Click here to register today!
X-ALT-DESC;FMTTYPE=text/html:<p align="center" class="MsoNormal" style="text-align: center\;">\n	<b style="mso-bidi-font-weight: normal\;">Splatters&rsquo\; 2013 Summer Art Camps!</b></p>\n<p class="MsoNormal">\n	Spring is here <span style="mso-spacerun: yes\;">&nbsp\;</span>and that means Summer is just around the corner! Have you started your search for summer camps yet? Well\, look no further&mdash\;Splatters Create &amp\; Party has four different art camps for all ages and skill levels! Let your kids explore their favorite ways of creating\, in our <b style="mso-bidi-font-weight: normal\;">Fun With Art Camp</b>\; take a trip to the Tropics without leaving Illinois\, in our <b style="mso-bidi-font-weight: normal\;">Tropical Art Camp</b>\; take a creative trip through time\, exploring and creating art\, in the style of famous artists\, in our <b style="mso-bidi-font-weight: normal\;">Famous Artists Camp</b>\; or let them experience our brand new camp just for <b style="mso-bidi-font-weight: normal\;">Tweens/Teens</b>! Camps run Monday through Friday from 9-12pm or 1-4pm. You must pre register&mdash\;but you better hurry\, camps fill up quickly! Register by <b style="mso-bidi-font-weight: normal\;">April 30<sup>th</sup></b> and receive <b style="mso-bidi-font-weight: normal\;">$40 off</b>. Sign up two or more siblings and receive <b style="mso-bidi-font-weight: normal\;">$15 off</b> each additional child. &ldquo\;Refer a Friend&rdquo\; and receive <b style="mso-bidi-font-weight: normal\;">$15 off</b>. <a href="http://www.splattersparties.com/classes.html">Click here to register today</a>!</p>\n
LOCATION:Splatters Create & Party 131 N Addison Ave. Elmhurst\, IL. 60126
UID:e.333.5277
SEQUENCE:3
DTSTAMP:20260422T133622Z
URL:https://chambermaster.elmhurstchamber.org/events/details/splatters-2013-summer-art-camps-06-03-2013-5277
END:VEVENT

END:VCALENDAR
