BEGIN:VCALENDAR
VERSION:2.0
PRODID:-//ChamberMaster//Event Calendar 2.0//EN
METHOD:PUBLISH
X-PUBLISHED-TTL:P3D
REFRESH-INTERVAL:P3D
CALSCALE:GREGORIAN
BEGIN:VEVENT
DTSTART:20131106T150000Z
DTEND:20131106T154500Z
X-MICROSOFT-CDO-ALLDAYEVENT:FALSE
SUMMARY:Splatters' "Create & Play2"
DESCRIPTION:Splatters Create & Party Fall Classes! "Create & Play 2\,"  get messy and have a great time exploring the world of art with your child! A 5 week class for ages 2 1/2 to 5\, with an adult. Classes start Wednesday\, October 16\, 9 to 9:45 a.m. and Thursday\, October 17\, 9 to 9:45 a.m.\, or 1 to 1:45p.m. Cost is $40. Must pre-register.
X-ALT-DESC;FMTTYPE=text/html:Splatters Create &amp\; Party Fall Classes! &quot\;Create &amp\; Play 2\,&quot\; &nbsp\;get messy and have a great time exploring the world of art with your child! A 5 week class for ages 2 1/2 to 5\, with an adult. Classes start Wednesday\, October 16\, 9 to 9:45 a.m. and Thursday\, October 17\, 9 to 9:45 a.m.\, or 1 to 1:45p.m. Cost is $40. Must pre-register. 
LOCATION:Splatters Create & Party 131 N. Addison Ave.\, Elmhurst\, IL. 60126
UID:e.333.5622
SEQUENCE:3
DTSTAMP:20260422T084547Z
URL:https://chambermaster.elmhurstchamber.org/events/details/splatters-create-play2-11-06-2013-5622
END:VEVENT

END:VCALENDAR
