BEGIN:VCALENDAR
VERSION:2.0
PRODID:-//ChamberMaster//Event Calendar 2.0//EN
METHOD:PUBLISH
X-PUBLISHED-TTL:P3D
REFRESH-INTERVAL:P3D
CALSCALE:GREGORIAN
BEGIN:VEVENT
DTSTART:20131104T220000Z
DTEND:20131104T230000Z
X-MICROSOFT-CDO-ALLDAYEVENT:FALSE
SUMMARY:Splatters' "Creation Station2"
DESCRIPTION:Splatters Fall Classes! Introducing "Creation Station 2\," a fun\, creative class for budding artists! This session's theme is "Eco-Art."  A 5 week class for ages 5-12. Classes start Monday October 14\, 4-5 p.m.. Cost is $60. Must pre-register.
X-ALT-DESC;FMTTYPE=text/html:Splatters Fall Classes! Introducing &quot\;Creation Station 2\,&quot\; a fun\, creative class for budding artists! This session&#39\;s theme is &quot\;Eco-Art.&quot\;&nbsp\; A 5 week class for ages 5-12. Classes start Monday October 14\, 4-5 p.m.. Cost is $60. Must pre-register. 
LOCATION:Splatters Create & Party 131 N. Addison Ave. Elmhurst\, IL 60126
UID:e.333.5634
SEQUENCE:3
DTSTAMP:20260420T124435Z
URL:https://chambermaster.elmhurstchamber.org/events/details/splatters-creation-station2-11-04-2013-5634
END:VEVENT

END:VCALENDAR
