BEGIN:VCALENDAR
VERSION:2.0
PRODID:-//ChamberMaster//Event Calendar 2.0//EN
METHOD:PUBLISH
X-PUBLISHED-TTL:P3D
REFRESH-INTERVAL:P3D
CALSCALE:GREGORIAN
BEGIN:VEVENT
DTSTART:20130325T140000Z
DTEND:20130329T170000Z
X-MICROSOFT-CDO-ALLDAYEVENT:FALSE
SUMMARY:Splatters' "Tropical Art" Camp!
DESCRIPTION:Splatters' "Tropical Art" Camp!\n\n\n\nTake a trip to the  Tropics without leaving Illinois!  Explore Tahiti and create artwork like Paul Gauguin.  Learn about islands in the Caribbean and Infamous Pirates \, while designing your very own  pirate maps!   Paint crazy sea creatures like Paul Klee.  We'll talk about ways everyone can help our oceans\, by creating our very own recycled mermaids and tropical fish.  Start stretching kids!  We're going to Jamaica for a limbo contest. On our last day\, we'll have a Hawaiian luau complete with hula lessons\, and yummy Hawaiian treats!
X-ALT-DESC;FMTTYPE=text/html:<span style="color: rgb(153\, 0\, 204)\;"><span style="font-size: 16px\;"><strong>Splatters&#39\; &quot\;Tropical Art&quot\; Camp</strong></span></span><strong><span style="color: rgb(153\, 51\, 204)\;"><span style="font-size: 16px\;">!</span></span></strong><br />\n<br />\n<span style="color: rgb(255\, 153\, 0)\;"><span style="font-size: 14px\;">Take a trip to the&nbsp\; Tropics without leaving Illinois!&nbsp\; Explore Tahiti and create artwork like Paul Gauguin.&nbsp\; Learn about islands in the Caribbean and Infamous Pirates \, while designing your very own&nbsp\; pirate maps!&nbsp\;&nbsp\; Paint crazy sea creatures like Paul Klee.&nbsp\; We&#39\;ll talk about ways everyone can help our oceans\, by creating our very own recycled mermaids and tropical fish.&nbsp\; Start stretching kids!&nbsp\; We&#39\;re going to Jamaica for a limbo contest. On our last day\, we&#39\;ll have a Hawaiian luau complete with hula lessons\, and yummy Hawaiian treats!</span></span>
LOCATION:Splatters Create & Party 131 N Addison Ave Elmhurst\, IL 60126
UID:e.333.5189
SEQUENCE:3
DTSTAMP:20260424T084830Z
URL:https://chambermaster.elmhurstchamber.org/events/details/splatters-tropical-art-camp-03-25-2013-5189
END:VEVENT

END:VCALENDAR
