BEGIN:VCALENDAR
VERSION:2.0
PRODID:-//ChamberMaster//Event Calendar 2.0//EN
METHOD:PUBLISH
X-PUBLISHED-TTL:P3D
REFRESH-INTERVAL:P3D
CALSCALE:GREGORIAN
BEGIN:VEVENT
DTSTART:20121226T190000Z
DTEND:20121226T220000Z
X-MICROSOFT-CDO-ALLDAYEVENT:FALSE
SUMMARY:Splatters' Winter Break Art Camps!
DESCRIPTION:Stay in from the cold this winter and create with Splatters at our "Winter Break" art camps! Kids and teens can create fun\, winter themed projects while you get your holiday returns done or just take a break after all the holiday festivities! "Winter Break" art camps are on Wednesday\, 12/26 from 1-4 p.m.\, Thursday\, 12/27 from 9-12 p.m.\, Friday\, 12/28 from 1-4 p.m.\, and Wednesday\, 1/2 from 9-12 p.m.  But hurry\, several camps are already full and those still available are filling up quickly! Ages 5 and up. The camp is $40 for a 3 hour camp.
X-ALT-DESC;FMTTYPE=text/html:Stay in from the cold this winter and create with Splatters at our &quot\;Winter Break&quot\; art camps! Kids and teens can create fun\, winter themed projects while you get your holiday returns done or just take a break after all the holiday festivities! &quot\;Winter Break&quot\; art camps are on Wednesday\, 12/26 from 1-4 p.m.\, Thursday\, 12/27 from 9-12 p.m.\, Friday\, 12/28 from 1-4 p.m.\, and Wednesday\, 1/2 from 9-12 p.m. &nbsp\;But hurry\, several camps are already full and those still available are filling up quickly! Ages 5 and up. The camp is $40 for a 3 hour camp.
LOCATION:Splatters Create&Party 131 Addison Ave. Elmhurst IL\, 60126
UID:e.333.5145
SEQUENCE:3
DTSTAMP:20260424T132015Z
URL:https://chambermaster.elmhurstchamber.org/events/details/splatters-winter-break-art-camps-12-26-2012-5145
END:VEVENT

END:VCALENDAR
