BEGIN:VCALENDAR
VERSION:2.0
PRODID:-//ChamberMaster//Event Calendar 2.0//EN
METHOD:PUBLISH
X-PUBLISHED-TTL:P3D
REFRESH-INTERVAL:P3D
CALSCALE:GREGORIAN
BEGIN:VEVENT
DTSTART;VALUE=DATE:20120408
DTEND;VALUE=DATE:20120512
TRANSP:TRANSPARENT
X-MICROSOFT-CDO-ALLDAYEVENT:TRUE
SUMMARY:Spring Art Show
DESCRIPTION:Artists from Palatine\, Oak Brook\, Villa Park\, Naperville\, Elmhurst\, Roselle and Woodridge are among Elmhurst Artists Guild members who have entered their works in the Spring Members Show now open in the EAG Gallery at the Elmhurst Art Museum.\n\n\n\nThe show can be viewed until May 11 during regular museum hours:\n\n10-5 Tues\, Wed\, Thurs & Sat.\n\n10-8 Fri. \n\n\n\nA reception open to the public will be held in the gallery April 13 from 7-9 pm. \n\n\n\nAdmission is free all day Friday and to museum members and children every day.  Most of the works on exhibit are for sale.
X-ALT-DESC;FMTTYPE=text/html:Artists from Palatine\, Oak Brook\, Villa Park\, Naperville\, Elmhurst\, Roselle and Woodridge are among Elmhurst Artists Guild members who have entered their works in the Spring Members Show now open in the EAG Gallery at the Elmhurst Art Museum.<br />\n<br />\nThe show can be viewed until May 11 during regular museum hours:<br />\n10-5 Tues\, Wed\, Thurs &amp\; Sat.<br />\n10-8 Fri.&nbsp\;<br />\n<br />\nA reception open to the public will be held in the gallery April 13 from 7-9 pm.&nbsp\;<br />\n<br />\nAdmission is free all day Friday and to museum members and children every day.&nbsp\; Most of the works on exhibit are for sale.&nbsp\; 
LOCATION:Elmhurst Art Museum 150 S. Cottage Hill Ave. Elmhurst
UID:e.333.4828
SEQUENCE:3
DTSTAMP:20260425T003614Z
URL:https://chambermaster.elmhurstchamber.org/events/details/spring-art-show-04-08-2012-4828
END:VEVENT

END:VCALENDAR
