BEGIN:VCALENDAR
VERSION:2.0
PRODID:-//ChamberMaster//Event Calendar 2.0//EN
METHOD:PUBLISH
X-PUBLISHED-TTL:P3D
REFRESH-INTERVAL:P3D
CALSCALE:GREGORIAN
BEGIN:VEVENT
DTSTART:20130405T160000Z
DTEND:20130407T230000Z
X-MICROSOFT-CDO-ALLDAYEVENT:FALSE
SUMMARY:Spring Arts & Crafts Festival
DESCRIPTION:Over 500 Artists & Crafters from 30 states fill the Odeum from wall to wall with incredible hand-made items! Voted one of the TOP 100 SHOWS in the country by Sunshine Artist Magazine\, this is one event you don't want to miss! Handcrafted\, one-of-a-kind home decor and gifts\, stage entertainment\, plenty of food and drinks\, plus register for $30 Gift Certificates - awarded hourly! Plan at least one full day to shop all the booths and enjoy the food and entertainment in our special food court! People come back year after year because they have such a great time and find unique gifts DON'T MISS IT!!
X-ALT-DESC;FMTTYPE=text/html:Over 500 Artists &amp\; Crafters from 30 states fill the Odeum from wall to wall with incredible hand-made items! Voted one of the TOP 100 SHOWS in the country by Sunshine Artist Magazine\, this is one event you don&#39\;t want to miss! Handcrafted\, one-of-a-kind home decor and gifts\, stage entertainment\, plenty of food and drinks\, plus register for $30 Gift Certificates - awarded hourly! Plan at least one full day to shop all the booths and enjoy the food and entertainment in our special food court! People come back year after year because they have such a great time and find unique gifts&hellip\;DON&rsquo\;T MISS IT!!
LOCATION:Odeum Expo Center
UID:e.333.5247
SEQUENCE:3
DTSTAMP:20260422T194334Z
URL:https://chambermaster.elmhurstchamber.org/events/details/spring-arts-crafts-festival-04-05-2013-5247
END:VEVENT

END:VCALENDAR
