BEGIN:VCALENDAR
VERSION:2.0
PRODID:-//ChamberMaster//Event Calendar 2.0//EN
METHOD:PUBLISH
X-PUBLISHED-TTL:P3D
REFRESH-INTERVAL:P3D
CALSCALE:GREGORIAN
BEGIN:VEVENT
DTSTART:20250503T180000Z
DTEND:20250503T230000Z
X-MICROSOFT-CDO-ALLDAYEVENT:FALSE
SUMMARY:Spring In Paris
DESCRIPTION:Join Us to Experience The Art Of Parisian Skincare Sip champagne Savor a macaron (or two) Enjoy luxurios samples from Biologique Recherche Experience a complimentary skin analysis with the iconic Biologique Recherche Skin Instant Lab-a diagnostic tool that reveals what your skin truly needs. Enter our raffle for a chance to win a facial or take home a top-tier skincare product
X-ALT-DESC;FMTTYPE=text/html:Join Us to Experience The Art Of Parisian Skincare Sip champagne Savor a macaron (or two) Enjoy luxurios samples from Biologique Recherche Experience a complimentary skin analysis with the iconic Biologique Recherche Skin Instant Lab-a diagnostic tool that reveals what your skin truly needs. Enter our raffle for a chance to win a facial or take home a top-tier skincare product
LOCATION:NIKS FACE AND BODY 147 N YORK ST\, ELMHURST
UID:e.333.17042
SEQUENCE:3
DTSTAMP:20260419T171539Z
URL:https://chambermaster.elmhurstchamber.org/events/details/spring-in-paris-17042
END:VEVENT

END:VCALENDAR
