BEGIN:VCALENDAR
VERSION:2.0
PRODID:-//ChamberMaster//Event Calendar 2.0//EN
METHOD:PUBLISH
X-PUBLISHED-TTL:P3D
REFRESH-INTERVAL:P3D
CALSCALE:GREGORIAN
BEGIN:VEVENT
DTSTART:20110305T170000Z
DTEND:20110305T210000Z
X-MICROSOFT-CDO-ALLDAYEVENT:FALSE
SUMMARY:"Spring is in the Aire" Fashion Show
DESCRIPTION:Community members are invited to attend the 24th annual fashion show presented by the award-winning Choral-Aires Chorus and Zzazz Productions\, held at Drury Lane Oakbrook Terrace on Saturday\, March 5\, at 11 a.m. The fashion show\, "Spring is in the Aire\," offers attendees an afternoon of delicious food\, excellent music\, raffle prizes and much more.\n\n\n\nWomen passionate about music are invited to join the Choral-Aires Chorus during weekly rehearsals held each Monday from 7 to 10 p.m.\, at the Redeemer Lutheran Church Recreation Center (345 S. Kenilworth Avenue\, Elmhurst). For more information\, contact Jane Toftey at 630.665.8387.\n\n\n\nMore than 100 women from Illinois\, Indiana and Wisconsin sing tight harmonies a capella (without instrumentation) with the Choral-Aires Chorus\, the 2008 Lake Michigan Region 3 Champion with the Sweet Adelines International. This program is partially supported by a grant from the Illinois Arts Council\, a state agency. More information about the Chorus can be found at their website\, http://choral-aires.com.
X-ALT-DESC;FMTTYPE=text/html:Community members are invited to attend the 24th annual fashion show presented by the award-winning Choral-Aires Chorus and Zzazz Productions\, held at Drury Lane Oakbrook Terrace on Saturday\, March 5\, at 11 a.m. The fashion show\, &quot\;Spring is in the Aire\,&quot\; offers attendees an afternoon of delicious food\, excellent music\, raffle prizes and much more.<br />\n<br />\nWomen passionate about music are invited to join the Choral-Aires Chorus during weekly rehearsals held each Monday from 7 to 10 p.m.\, at the Redeemer Lutheran Church Recreation Center (345 S. Kenilworth Avenue\, Elmhurst). For more information\, contact Jane Toftey at 630.665.8387.<br />\n<br />\nMore than 100 women from Illinois\, Indiana and Wisconsin sing tight harmonies a capella (without instrumentation) with the Choral-Aires Chorus\, the 2008 Lake Michigan Region 3 Champion with the Sweet Adelines International. This program is partially supported by a grant from the Illinois Arts Council\, a state agency. More information about the Chorus can be found at their website\, <a href="http://www.choral-aires.com">http://choral-aires.com</a>.<br />\n
LOCATION:Drury Lane Oakbrook Terrace
UID:e.333.3811
SEQUENCE:3
DTSTAMP:20260425T234119Z
URL:https://chambermaster.elmhurstchamber.org/events/details/spring-is-in-the-aire-fashion-show-03-05-2011-3811
END:VEVENT

END:VCALENDAR
