BEGIN:VCALENDAR
VERSION:2.0
PRODID:-//ChamberMaster//Event Calendar 2.0//EN
METHOD:PUBLISH
X-PUBLISHED-TTL:P3D
REFRESH-INTERVAL:P3D
CALSCALE:GREGORIAN
BEGIN:VEVENT
DTSTART;VALUE=DATE:20110405
DTEND;VALUE=DATE:20110514
TRANSP:TRANSPARENT
X-MICROSOFT-CDO-ALLDAYEVENT:TRUE
SUMMARY:Spring Members Show at EAG Gallery
DESCRIPTION:The Spring Members Show\, featuring a variety of original artwork by the members of the Elmhurst Artists Guild\, will be held in the EAG Gallery from April 5\, 2011 through May 13\, 2011. The public is encouraged to attend the reception on Friday\, April 8\, 2011 from 7:00 to 9:00pm to meet the artists and learn about their work. The artworks will be judged and awards bestowed by Nina Weiss\, a nationally recognized landscape artist and instructor at the School of the Art Institute\, Columbia College and Evanston Art Center.
X-ALT-DESC;FMTTYPE=text/html:The Spring Members Show\, featuring a variety of original artwork by the members of the Elmhurst Artists Guild\, will be held in the EAG Gallery from April 5\, 2011 through May 13\, 2011. The public is encouraged to attend the reception on Friday\, April 8\, 2011 from 7:00 to 9:00pm to meet the artists and learn about their work. The artworks will be judged and awards bestowed by Nina Weiss\, a nationally recognized landscape artist and instructor at the School of the Art Institute\, Columbia College and Evanston Art Center.
LOCATION:Elmhurst Artists' Guild Gallery\, Elmhurst Art Museum\, 150 S Cottage Hill\, Elmhurst\, IL 60126
UID:e.333.4154
SEQUENCE:3
DTSTAMP:20260425T191057Z
URL:https://chambermaster.elmhurstchamber.org/events/details/spring-members-show-at-eag-gallery-04-05-2011-4154
END:VEVENT

END:VCALENDAR
