BEGIN:VCALENDAR
VERSION:2.0
PRODID:-//ChamberMaster//Event Calendar 2.0//EN
METHOD:PUBLISH
X-PUBLISHED-TTL:P3D
REFRESH-INTERVAL:P3D
CALSCALE:GREGORIAN
BEGIN:VEVENT
DTSTART:20110317T220000Z
DTEND:20110318T000000Z
X-MICROSOFT-CDO-ALLDAYEVENT:FALSE
SUMMARY:St. Patricks Day Business After Hours
DESCRIPTION:Concord Place will host the Elmhurst Chamber of Commerce's Business After Hours in celebration of St. Patricks Day!\n\n\n\nThe menu will include:\n\nMini Rubens with Saurkretut\n\n	Stuffed mushrooms with spinach and cheese\n\n	Potato skins with sour cream\n\n	Assorted mini quiches\n\n	Vegetable spring rolls\n\n	Soda bread\n\n	 \n\n	Beverages will include:\n\n	Miller Genuine Draft beer\n\n	Miller Light beer\n\n	Guiness beer\n\n	Appletinis\n\n	 \n\n	Entertainment will include live performances of Irish music.
X-ALT-DESC;FMTTYPE=text/html:Concord Place will host the Elmhurst Chamber of Commerce&#39\;s Business After Hours&nbsp\;in celebration of St.&nbsp\;Patricks Day!<br />\n<br />\n<span lang="EN">The menu will include:<br />\nMini Rubens with Saurkretut</span>\n<div>\n	<span lang="EN">Stuffed mushrooms with spinach and cheese</span></div>\n<div>\n	<span lang="EN">Potato skins with sour cream</span></div>\n<div>\n	<span lang="EN">Assorted mini quiches</span></div>\n<div>\n	<span lang="EN">Vegetable spring rolls</span></div>\n<div>\n	<span lang="EN">Soda bread</span><br />\n	&nbsp\;</div>\n<div>\n	<span lang="EN">Beverages will include:<br />\n	Miller Genuine Draft beer<br />\n	Miller Light beer<br />\n	Guiness beer</span></div>\n<div>\n	<span lang="EN">Appletinis</span><br />\n	&nbsp\;</div>\n<div>\n	<span lang="EN">Entertainment will include live performances of&nbsp\;Irish music.<span _fck_bookmark="1" style="display: none">&nbsp\;</span></span></div>\n
LOCATION:Concord Place 401 W. Lake St. Northlake\, IL 60164
UID:e.333.3874
SEQUENCE:3
DTSTAMP:20260425T222021Z
URL:https://chambermaster.elmhurstchamber.org/events/details/st-patricks-day-business-after-hours-03-17-2011-3874
END:VEVENT

END:VCALENDAR
