BEGIN:VCALENDAR
VERSION:2.0
PRODID:-//ChamberMaster//Event Calendar 2.0//EN
METHOD:PUBLISH
X-PUBLISHED-TTL:P3D
REFRESH-INTERVAL:P3D
CALSCALE:GREGORIAN
BEGIN:VEVENT
DTSTART:20220317T123000Z
DTEND:20220317T143000Z
X-MICROSOFT-CDO-ALLDAYEVENT:FALSE
SUMMARY:"State of Our City" Mayoral Address - Membership Breakfast
DESCRIPTION:Elmhurst Mayor Scott Levin will deliver his Annual "State of Our City" Mayoral Address at the Chamber's Membership Breakfast sponsored by Community Bank of Elmhurst\, 330 West Butterfield Road\, on Thursday\, March 17\, from 7:30 to 9:30 a.m.
X-ALT-DESC;FMTTYPE=text/html:Elmhurst Mayor Scott Levin will deliver his Annual &quot\;State of Our City&quot\; Mayoral Address at the Chamber&#39\;s Membership Breakfast sponsored by Community Bank of Elmhurst\, 330 West Butterfield Road\, on Thursday\, March 17\, from 7:30 to 9:30 a.m.
LOCATION:Community Bank of Elmhurst 330 W. Butterfield Rd. Elmhurst\, IL 60126
UID:e.333.16252
SEQUENCE:3
DTSTAMP:20260425T192521Z
URL:https://chambermaster.elmhurstchamber.org/events/details/state-of-our-city-mayoral-address-membership-breakfast-16252
END:VEVENT

END:VCALENDAR
