BEGIN:VCALENDAR
VERSION:2.0
PRODID:-//ChamberMaster//Event Calendar 2.0//EN
METHOD:PUBLISH
X-PUBLISHED-TTL:P3D
REFRESH-INTERVAL:P3D
CALSCALE:GREGORIAN
BEGIN:VEVENT
DTSTART:20260122T133000Z
DTEND:20260122T153000Z
X-MICROSOFT-CDO-ALLDAYEVENT:FALSE
SUMMARY:"State of Our City" Mayoral Address - Membership Breakfast
DESCRIPTION:Elmhurst Mayor Scott Levin will deliver his Annual "State of Our City" Mayoral Address at the Chamber's Membership Breakfast sponsored by Community Bank of Elmhurst\, 330 West Butterfield Road\, on Thursday\, January 22\, from 7:30 to 9:30 a.m.
X-ALT-DESC;FMTTYPE=text/html:Elmhurst Mayor Scott Levin will deliver his Annual &quot\;State of Our City&quot\; Mayoral Address at the Chamber&#39\;s Membership Breakfast sponsored by Community Bank of Elmhurst\, 330 West Butterfield Road\, on Thursday\, January 22\, from 7:30 to 9:30 a.m.
LOCATION:Community Bank of Elmhurst 330 W. Butterfield Rd. Elmhurst\, IL 60126
UID:e.333.17114
SEQUENCE:3
DTSTAMP:20260422T120139Z
URL:https://chambermaster.elmhurstchamber.org/events/details/state-of-our-city-mayoral-address-membership-breakfast-17114
END:VEVENT

END:VCALENDAR
