BEGIN:VCALENDAR
VERSION:2.0
PRODID:-//ChamberMaster//Event Calendar 2.0//EN
METHOD:PUBLISH
X-PUBLISHED-TTL:P3D
REFRESH-INTERVAL:P3D
CALSCALE:GREGORIAN
BEGIN:VEVENT
DTSTART:20110817T164500Z
DTEND:20110817T174500Z
X-MICROSOFT-CDO-ALLDAYEVENT:FALSE
SUMMARY:Steelcase: Harder Working Spaces
DESCRIPTION:Michael McCormick\, Steelcase\,  along with Jillian Scholl\, OEC Business Interiors\, will be the featured speakers as part of our Professional Speaker Seminar Series at the Elmhurst Chamber of Commerce.  Her presentation will share research about trends and issues affecting the workplace\, and a discussion of insights and ideas to create a high preformance and reflect on the key issues that businesses face today (compressing real estate and its associated coss\, enabling collaboration and team work\, attracting ad retaining the right talent\, and using the workplace as tools to build brand and reflect organized culture).\n\n\n\n\n\nAttendance will be free to Chamber members and special guests.
X-ALT-DESC;FMTTYPE=text/html:Michael McCormick\, Steelcase\, &nbsp\;along with Jillian Scholl\, OEC Business Interiors\, will be the featured speakers as part of our Professional Speaker Seminar Series at the Elmhurst Chamber of Commerce.&nbsp\; Her presentation will share research about trends and issues affecting the workplace\, and a discussion of insights and ideas to create a high preformance and reflect on the key issues that businesses face today (compressing real estate and its associated coss\, enabling collaboration and team work\, attracting ad retaining the right talent\, and using the workplace as tools to build brand and reflect organized culture).<br />\n<br />\n<br />\nAttendance will be free to Chamber members and special guests.&nbsp\; 
LOCATION:Elmhurst Chamber of Commerce & Industry Community Bank of Elmhurst Board Room 242 N York St.\, Ste 102 Elmhurst\, IL 60126
UID:e.333.4203
SEQUENCE:3
DTSTAMP:20260425T144856Z
URL:https://chambermaster.elmhurstchamber.org/events/details/steelcase-harder-working-spaces-08-17-2011-4203
END:VEVENT

END:VCALENDAR
