BEGIN:VCALENDAR
VERSION:2.0
PRODID:-//ChamberMaster//Event Calendar 2.0//EN
METHOD:PUBLISH
X-PUBLISHED-TTL:P3D
REFRESH-INTERVAL:P3D
CALSCALE:GREGORIAN
BEGIN:VEVENT
DTSTART:20130618T150000Z
DTEND:20130915T220000Z
X-MICROSOFT-CDO-ALLDAYEVENT:FALSE
SUMMARY:Stone Inspiration:The Lapidary Art of Derek Levin
DESCRIPTION:Special Exhibit of Derek Levin. The art of Derek Levin embodies a true lapidary spirit. His works are made by juxtaposing found stones\, cut \, carved\, and faceted gemstones and other natural materials to create a whimsical world of transformed works of art. Regular Museum Hours and Admission
X-ALT-DESC;FMTTYPE=text/html:Special Exhibit of Derek Levin. The art of Derek Levin embodies a true lapidary spirit. His works are made by juxtaposing found stones\, cut \, carved\, and faceted gemstones and other natural materials to create a whimsical world of transformed&nbsp\;works of art. Regular Museum Hours and Admission 
LOCATION:Lizzadro Museum of Lapidary Art 220 Cottage Hill Elmhurst\, IL 60126
UID:e.333.5316
SEQUENCE:3
DTSTAMP:20260422T113451Z
URL:https://chambermaster.elmhurstchamber.org/events/details/stone-inspiration-the-lapidary-art-of-derek-levin-06-18-2013-5316
END:VEVENT

END:VCALENDAR
