BEGIN:VCALENDAR
VERSION:2.0
PRODID:-//ChamberMaster//Event Calendar 2.0//EN
METHOD:PUBLISH
X-PUBLISHED-TTL:P3D
REFRESH-INTERVAL:P3D
CALSCALE:GREGORIAN
BEGIN:VEVENT
DTSTART;VALUE=DATE:20130602
DTEND;VALUE=DATE:20130603
TRANSP:TRANSPARENT
X-MICROSOFT-CDO-ALLDAYEVENT:TRUE
SUMMARY:"Strided Against MG"
DESCRIPTION:"Strides Against MG" 1-mile\, 3-mile and Kids' Dash charity walk. \n\n\n\nTo register\, go to www.meastheniagravis.org or call the Myasthenia Gravis Foundation of Illinois at 1-800-888-6208. \n\n\n\nProceeds will help MGF of Illinois provide patient support and education\, raise awareness among the public and healthcare community\, and directly fund vital medical research. \n\n\n\nWalker packets can be picked up on walk day.\n\nPackets can also be picked up in advance at Elmhurst's Fleet Feet Sports\, 124 E. Schiller\, on Thursday and Friday\, 5/30 and 5/31 from 4 to 7PM
X-ALT-DESC;FMTTYPE=text/html:&quot\;Strides Against MG&quot\; 1-mile\, 3-mile and Kids&#39\; Dash charity walk.&nbsp\;<br />\n<br />\nTo register\, go to www.meastheniagravis.org or call the Myasthenia Gravis Foundation of Illinois at 1-800-888-6208.&nbsp\;<br />\n<br />\nProceeds will help MGF of Illinois provide patient support and education\, raise awareness among the public and healthcare community\, and directly fund vital medical research.&nbsp\;<br />\n<br />\nWalker packets can be picked up on walk day.<br />\nPackets can also be picked up in advance at Elmhurst&#39\;s Fleet Feet Sports\, 124 E. Schiller\, on Thursday and Friday\, 5/30 and 5/31 from 4 to 7PM
LOCATION:Berens Park 423 Oaklawn Ave Elmhurst\, IL 60126
UID:e.333.5285
SEQUENCE:3
DTSTAMP:20260422T162956Z
URL:https://chambermaster.elmhurstchamber.org/events/details/strided-against-mg-06-02-2013-5285
END:VEVENT

END:VCALENDAR
