BEGIN:VCALENDAR
VERSION:2.0
PRODID:-//ChamberMaster//Event Calendar 2.0//EN
METHOD:PUBLISH
X-PUBLISHED-TTL:P3D
REFRESH-INTERVAL:P3D
CALSCALE:GREGORIAN
BEGIN:VEVENT
DTSTART:20130602T130000Z
DTEND:20130602T160000Z
X-MICROSOFT-CDO-ALLDAYEVENT:FALSE
SUMMARY:Strides Against MG Walk
DESCRIPTION:TAKES STRIDES AGAINST AUTOIMMUNE DISEASE\n\n\n\n\n	The Myasthenia Gravis Foundation of Illinois hosts its first "Strides Against MG" 1-mile\, 3-mile\, and Kids' Dash charity walk at Berens Park on Sunday\, June 2. Registration starts at 8 a.m. and the first walk begins at 8:30 a.m.   \n\n	 \n\n	"My friend\, Marita\, struggles with this rare autoimmune disease\," notes Elmhurst College student Erin O'Loughlin.  "I can't fix it\, but I want to give her my support."  Erin will join dozens of friends\, family members and myasthenics to raise the public profile of this life-changing disease.  Proceeds will help MGF of Illinois provide patient support and education\, raise awareness among the public and healthcare community\, and directly fund vital medical research.\n\n	 \n\n	To register for the "Strides Against MG" walk\, go to www.myastheniagravis.org or call the Myasthenia Gravis Foundation of Illinois at 1-800-888-6208. Fees are $30 per walker ($35 on walk day) and $10 for each child under age 12.  Walker packets can be picked up on walk day\, or in advance at Elmhurst's Fleet Feet Sports\, 124 E. Schiller Street on Thursday and Friday\, 5/30 and 5/31 from 4p.m. to 7p.m.
X-ALT-DESC;FMTTYPE=text/html:TAKES STRIDES AGAINST AUTOIMMUNE DISEASE<br />\n<br />\n<p class="MsoNormal" style="margin: 0in 0in 0pt\;">\n	<font size="3"><font color="#000000"><font face="Calibri">The Myasthenia Gravis Foundation of Illinois&nbsp\;hosts its first &ldquo\;Strides Against MG&rdquo\; 1-mile\, 3-mile\, and Kids&rsquo\; Dash charity walk at Berens Park on Sunday\, June 2.&nbsp\;Registration starts at 8 a.m. and the first walk begins at 8:30 a.m.&nbsp\;&nbsp\; <o:p></o:p></font></font></font></p>\n<p class="MsoNormal" style="margin: 0in 0in 0pt\;">\n	<o:p><font color="#000000" face="Calibri" size="3">&nbsp\;</font></o:p></p>\n<p class="MsoNormal" style="margin: 0in 0in 0pt\;">\n	<font size="3"><font color="#000000"><font face="Calibri">&ldquo\;My friend\, Marita\, struggles with this rare autoimmune disease\,&rdquo\; notes Elmhurst College student Erin O&rsquo\;Loughlin.&nbsp\; &ldquo\;I can&rsquo\;t fix it\, but I want to give her my support.&rdquo\;&nbsp\;&nbsp\;Erin will join dozens of friends\, family members and myasthenics to raise the public profile of this life-changing disease.&nbsp\; Proceeds will help MGF of Illinois provide patient support and education\, raise awareness among the public and healthcare community\, and directly fund vital medical research.<o:p></o:p></font></font></font></p>\n<p class="MsoNormal" style="margin: 0in 0in 0pt\;">\n	<o:p><font color="#000000" face="Calibri" size="3">&nbsp\;</font></o:p></p>\n<p class="MsoNormal" style="margin: 0in 0in 0pt\;">\n	<font color="#000000" face="Calibri" size="3">To register for the &ldquo\;Strides Against MG&rdquo\; walk\, go to </font><a href="http://www.myastheniagravis.org/"><font color="#0000ff" face="Calibri" size="3">www.myastheniagravis.org</font></a><font face="Calibri"><font size="3"><font color="#000000">&nbsp\;or call the Myasthenia Gravis Foundation of Illinois at 1-800-888-6208. Fees are $30 per walker ($35 on walk day) and $10 for each child under age 12.&nbsp\; Walker packets can be picked up on walk day\, or in advance at Elmhurst&#39\;s Fleet Feet Sports\, 124 E. Schiller Street on Thursday and Friday\, 5/30 and 5/31 from 4p.m. to 7p.m.</font></font></font></p>\n<p class="MsoNormal" style="margin: 0in 0in 0pt\;">\n	<o:p><font color="#000000" face="Calibri" size="3">&nbsp\;</font></o:p></p>\n<p class="MsoNormal" style="margin: 0in 0in 0pt\;">\n	<o:p></o:p></p>\n<p class="MsoNormal" style="margin: 0in 0in 0pt\;">\n	<o:p><font color="#000000" face="Calibri" size="3">&nbsp\;</font></o:p></p>\n
LOCATION:Berens Park 493 Oaklawn Avenue Elmhurst IL
UID:e.333.5283
SEQUENCE:3
DTSTAMP:20260422T180446Z
URL:https://chambermaster.elmhurstchamber.org/events/details/strides-against-mg-walk-06-02-2013-5283
END:VEVENT

END:VCALENDAR
