BEGIN:VCALENDAR
VERSION:2.0
PRODID:-//ChamberMaster//Event Calendar 2.0//EN
METHOD:PUBLISH
X-PUBLISHED-TTL:P3D
REFRESH-INTERVAL:P3D
CALSCALE:GREGORIAN
BEGIN:VEVENT
DTSTART:20121009T140000Z
DTEND:20121009T180000Z
X-MICROSOFT-CDO-ALLDAYEVENT:FALSE
SUMMARY:Succession Planning That Works
DESCRIPTION:This course will teach an overview of secession planning options for the closely held business. Sales to existing partners\, third party sales\, management buy-outs and sales to Employee Stock Ownership Plans (ESPOs) are reviewed. Also covered is family issues.
X-ALT-DESC;FMTTYPE=text/html:This course will teach an overview of secession planning&nbsp\;options for the closely held business. Sales to existing partners\, third party sales\, management buy-outs and sales to Employee Stock Ownership Plans (ESPOs) are reviewed. Also covered is family issues.&nbsp\;
LOCATION:Republic Bank 4433 W. Touhy Ave. Lincolnwood\, IL 60712
UID:e.333.5089
SEQUENCE:3
DTSTAMP:20260424T162531Z
URL:https://chambermaster.elmhurstchamber.org/events/details/succession-planning-that-works-10-09-2012-5089
END:VEVENT

END:VCALENDAR
