BEGIN:VCALENDAR
VERSION:2.0
PRODID:-//ChamberMaster//Event Calendar 2.0//EN
METHOD:PUBLISH
X-PUBLISHED-TTL:P3D
REFRESH-INTERVAL:P3D
CALSCALE:GREGORIAN
BEGIN:VEVENT
DTSTART:20121011T140000Z
DTEND:20121011T180000Z
X-MICROSOFT-CDO-ALLDAYEVENT:FALSE
SUMMARY:Succession Planning That Works
DESCRIPTION:David Lesser will provide a  course that will teach an overview of succession planning options for the closely held business. Sales to existing partners\, third party sales\, management buy-outs and sales to Employee Stock Ownership Plans (ESOPs) are reviewed. Also covered is family succession issues.
X-ALT-DESC;FMTTYPE=text/html:David Lesser will provide a &nbsp\;course that will teach an overview of succession&nbsp\;planning options for the closely held business. Sales to existing partners\, third party sales\, management buy-outs and sales to Employee Stock Ownership Plans (ESOPs) are reviewed. Also covered is family succession issues.&nbsp\;
LOCATION:Republic Bank 9440 Joliet Rd. Hodgkins\, IL 60525
UID:e.333.5090
SEQUENCE:3
DTSTAMP:20260424T162419Z
URL:https://chambermaster.elmhurstchamber.org/events/details/succession-planning-that-works-10-11-2012-5090
END:VEVENT

END:VCALENDAR
